BEGIN:VCALENDAR
VERSION:2.0
PRODID:-//North Park Main Street - ECPv6.15.20//NONSGML v1.0//EN
CALSCALE:GREGORIAN
METHOD:PUBLISH
X-WR-CALNAME:North Park Main Street
X-ORIGINAL-URL:https://northparkmainstreet.com
X-WR-CALDESC:Events for North Park Main Street
REFRESH-INTERVAL;VALUE=DURATION:PT1H
X-Robots-Tag:noindex
X-PUBLISHED-TTL:PT1H
BEGIN:VTIMEZONE
TZID:America/Los_Angeles
BEGIN:DAYLIGHT
TZOFFSETFROM:-0800
TZOFFSETTO:-0700
TZNAME:PDT
DTSTART:20240310T100000
END:DAYLIGHT
BEGIN:STANDARD
TZOFFSETFROM:-0700
TZOFFSETTO:-0800
TZNAME:PST
DTSTART:20241103T090000
END:STANDARD
BEGIN:DAYLIGHT
TZOFFSETFROM:-0800
TZOFFSETTO:-0700
TZNAME:PDT
DTSTART:20250309T100000
END:DAYLIGHT
BEGIN:STANDARD
TZOFFSETFROM:-0700
TZOFFSETTO:-0800
TZNAME:PST
DTSTART:20251102T090000
END:STANDARD
BEGIN:DAYLIGHT
TZOFFSETFROM:-0800
TZOFFSETTO:-0700
TZNAME:PDT
DTSTART:20260308T100000
END:DAYLIGHT
BEGIN:STANDARD
TZOFFSETFROM:-0700
TZOFFSETTO:-0800
TZNAME:PST
DTSTART:20261101T090000
END:STANDARD
END:VTIMEZONE
BEGIN:VEVENT
DTSTART;TZID=America/Los_Angeles:20251004T110000
DTEND;TZID=America/Los_Angeles:20251004T160000
DTSTAMP:20260419T225512
CREATED:20240904T190801Z
LAST-MODIFIED:20250903T193622Z
UID:52159-1759575600-1759593600@northparkmainstreet.com
SUMMARY:Taste of North Park
DESCRIPTION:Tickets are on sale NOW! \nFood tasting | 11:00 AM – 3:30 PM \nBeverages | 11:00 AM – 4:00 PM \nNorth Park’s favorite food and drink fest is back and bigger\, better\, and tastier than ever! Taste of North Park 2025 returns on Saturday\, October 4th for an unforgettable day filled with delicious bites\, craft brews\, cider\, kombucha\, live music\, and boutique shopping\, all in one of San Diego’s most creative and flavor-forward neighborhoods! \nNew this year: the Shareable Ticket – perfect for two people to enjoy the day together with one taste ticket and two cups. \nTickets: \n\n$65 – Food & Drink\n$50 – Food Only\n$85 – NEW Shareable Ticket (1 Taste Ticket\, 2 Cup limited to 300)
URL:https://northparkmainstreet.com/event/taste-of-north-park-2/
LOCATION:North Park (Multiple Locations)
CATEGORIES:NPMS,Special Events
ATTACH;FMTTYPE=image/png:https://northparkmainstreet.com/wp-content/uploads/2024/09/TONP_Star.png
END:VEVENT
END:VCALENDAR