BEGIN:VCALENDAR
VERSION:2.0
PRODID:-//North Park Main Street - ECPv6.15.20//NONSGML v1.0//EN
CALSCALE:GREGORIAN
METHOD:PUBLISH
X-WR-CALNAME:North Park Main Street
X-ORIGINAL-URL:https://northparkmainstreet.com
X-WR-CALDESC:Events for North Park Main Street
REFRESH-INTERVAL;VALUE=DURATION:PT1H
X-Robots-Tag:noindex
X-PUBLISHED-TTL:PT1H
BEGIN:VTIMEZONE
TZID:America/Los_Angeles
BEGIN:DAYLIGHT
TZOFFSETFROM:-0800
TZOFFSETTO:-0700
TZNAME:PDT
DTSTART:20220313T100000
END:DAYLIGHT
BEGIN:STANDARD
TZOFFSETFROM:-0700
TZOFFSETTO:-0800
TZNAME:PST
DTSTART:20221106T090000
END:STANDARD
BEGIN:DAYLIGHT
TZOFFSETFROM:-0800
TZOFFSETTO:-0700
TZNAME:PDT
DTSTART:20230312T100000
END:DAYLIGHT
BEGIN:STANDARD
TZOFFSETFROM:-0700
TZOFFSETTO:-0800
TZNAME:PST
DTSTART:20231105T090000
END:STANDARD
BEGIN:DAYLIGHT
TZOFFSETFROM:-0800
TZOFFSETTO:-0700
TZNAME:PDT
DTSTART:20240310T100000
END:DAYLIGHT
BEGIN:STANDARD
TZOFFSETFROM:-0700
TZOFFSETTO:-0800
TZNAME:PST
DTSTART:20241103T090000
END:STANDARD
END:VTIMEZONE
BEGIN:VEVENT
DTSTART;TZID=America/Los_Angeles:20230812T120000
DTEND;TZID=America/Los_Angeles:20230812T160000
DTSTAMP:20260419T183112
CREATED:20230728T233240Z
LAST-MODIFIED:20231006T151502Z
UID:49097-1691841600-1691856000@northparkmainstreet.com
SUMMARY:North Park Vegan Food Popup
DESCRIPTION:2nd Saturdays\n12 pm – 4 pm\nNorth Park Mini Park\n3812 29th St\, San Diego \nSan Diego’s biggest outdoor vegan market\, featuring over 60 vendors. The North Park Vegan Food Popup is located at the North Park Mini Park\, a vibrant outdoor plaza featuring several seating areas\, gardens and a play area for kids. \nVegan Food Popup markets are free events that showcase the best plant-based food in SoCal\, featuring a rotating lineup of diverse vendors from San Diego\, Orange County and LA offering an amazing selection of eats and treats including Pizza\, Burgers\, Donuts\, Nachos\, Croissants\, Noodles\, Bao\, Stuffed Waffles\, Boba\, Corn Dogs\, Ice Cream\, Dumplings\, Hot Wings\, Sushi\, Cookies\, Curries & so much more.
URL:https://northparkmainstreet.com/event/north-park-vegan-food-popup/
LOCATION:North Park Mini Park\, 3812 29th St\, San Diego\, CA\, 92104\, United States
CATEGORIES:Special Events
ATTACH;FMTTYPE=image/jpeg:https://northparkmainstreet.com/wp-content/uploads/2023/07/NPVFM-Logo.jpg
ORGANIZER;CN="Vegan Food Popup":MAILTO:info@veganfoodpopup.com
END:VEVENT
BEGIN:VEVENT
DTSTART;TZID=America/Los_Angeles:20231112T150000
DTEND;TZID=America/Los_Angeles:20231112T190000
DTSTAMP:20260419T183112
CREATED:20231025T200330Z
LAST-MODIFIED:20231025T200652Z
UID:49749-1699801200-1699815600@northparkmainstreet.com
SUMMARY:The Rainbow’s Colorful Holiday Market
DESCRIPTION:The Rainbow is thrilled to announce our first -and only- holiday market\, in our current space that is. \nCome by to get FESTIVE and snack\, sip\, shop and art the week before Thanksgiving. Local makers of all kinds will be there to share their stuff with us plus lots of to be announced surprises. Take a look at our IG post for links to current vendor profiles. \nPlease mark your calendars and come. It’s so important to The Rainbow and in general to support local makers and creatives. Your presence is our present. Can’t wait to see you there! \nVendor note: We’re almost full! Are you or someone you know are interested in being a vendor? Head over here.
URL:https://northparkmainstreet.com/event/the-rainbows-colorful-holiday-market/
LOCATION:The Rainbow SD\, 2002 University Ave\, San Diego\, CA\, 92104
CATEGORIES:Special Events
ATTACH;FMTTYPE=image/png:https://northparkmainstreet.com/wp-content/uploads/2023/10/The-Rainbow-Event-Logo.png
END:VEVENT
END:VCALENDAR