BEGIN:VCALENDAR
VERSION:2.0
PRODID:-//North Park Main Street - ECPv6.15.20//NONSGML v1.0//EN
CALSCALE:GREGORIAN
METHOD:PUBLISH
X-ORIGINAL-URL:https://northparkmainstreet.com
X-WR-CALDESC:Events for North Park Main Street
REFRESH-INTERVAL;VALUE=DURATION:PT1H
X-Robots-Tag:noindex
X-PUBLISHED-TTL:PT1H
BEGIN:VTIMEZONE
TZID:America/Los_Angeles
BEGIN:DAYLIGHT
TZOFFSETFROM:-0800
TZOFFSETTO:-0700
TZNAME:PDT
DTSTART:20220313T100000
END:DAYLIGHT
BEGIN:STANDARD
TZOFFSETFROM:-0700
TZOFFSETTO:-0800
TZNAME:PST
DTSTART:20221106T090000
END:STANDARD
BEGIN:DAYLIGHT
TZOFFSETFROM:-0800
TZOFFSETTO:-0700
TZNAME:PDT
DTSTART:20230312T100000
END:DAYLIGHT
BEGIN:STANDARD
TZOFFSETFROM:-0700
TZOFFSETTO:-0800
TZNAME:PST
DTSTART:20231105T090000
END:STANDARD
BEGIN:DAYLIGHT
TZOFFSETFROM:-0800
TZOFFSETTO:-0700
TZNAME:PDT
DTSTART:20240310T100000
END:DAYLIGHT
BEGIN:STANDARD
TZOFFSETFROM:-0700
TZOFFSETTO:-0800
TZNAME:PST
DTSTART:20241103T090000
END:STANDARD
END:VTIMEZONE
BEGIN:VEVENT
DTSTART;TZID=America/Los_Angeles:20230615T150000
DTEND;TZID=America/Los_Angeles:20230615T193000
DTSTAMP:20260423T133926
CREATED:20230614T174127Z
LAST-MODIFIED:20241125T231314Z
UID:48817-1686841200-1686857400@northparkmainstreet.com
SUMMARY:North Park Farmers' Market
DESCRIPTION:
URL:https://northparkmainstreet.com/event/north-park-farmers-market/
LOCATION:North Park Mini Park\, 3812 29th St\, San Diego\, CA\, 92104\, United States
CATEGORIES:Community Events,NPMS
ATTACH;FMTTYPE=image/png:https://northparkmainstreet.com/wp-content/uploads/2023/06/2018_FarmersMarket_4x4.png
END:VEVENT
BEGIN:VEVENT
DTSTART;TZID=America/Los_Angeles:20231108T090000
DTEND;TZID=America/Los_Angeles:20231108T100000
DTSTAMP:20260423T133926
CREATED:20231019T200922Z
LAST-MODIFIED:20231023T215722Z
UID:49646-1699434000-1699437600@northparkmainstreet.com
SUMMARY:Community Coffee with Councilmember Whitburn
DESCRIPTION:Coffee chats are a way for community members to connect with those who are working for them in a direct and more informal environment. \n\n\n\n\nWe are excited to have Councilmember Whitburn come back to the NPMS office to gives us an update on the University Ave Mobility Project
URL:https://northparkmainstreet.com/event/community-coffee-with-councilmember-whitburn-2/
LOCATION:North Park Main Street\, 2948 University Ave\, Floor 2\, San Diego\, 92104\, United States
CATEGORIES:Community Events,NPMS
ATTACH;FMTTYPE=image/png:https://northparkmainstreet.com/wp-content/uploads/2023/10/Copy-of-Coffee-Post-6.png
END:VEVENT
BEGIN:VEVENT
DTSTART;TZID=America/Los_Angeles:20231104T140000
DTEND;TZID=America/Los_Angeles:20231104T170000
DTSTAMP:20260423T133926
CREATED:20231102T210347Z
LAST-MODIFIED:20231102T210347Z
UID:49831-1699106400-1699117200@northparkmainstreet.com
SUMMARY:Revival Eyewear Turns 2!
DESCRIPTION:Come celebrate Revival Eyewear’s 2 year anniversary Saturday\, November 4th from 2 pm to 5 pm. \nComplimentary refreshments & food will be provided! \nStop on by and see why everyone is in love with Revival’s unique frames!
URL:https://northparkmainstreet.com/event/revival-eyewear-turns-2/
LOCATION:Revival Vintage Eyewear\, 3821 Ray St\, San Diego\, CA\, 92104\, United States
CATEGORIES:Community Events
ATTACH;FMTTYPE=image/png:https://northparkmainstreet.com/wp-content/uploads/2023/11/thumbnail_Revival_turns2.png
END:VEVENT
BEGIN:VEVENT
DTSTART;TZID=America/Los_Angeles:20230615T150000
DTEND;TZID=America/Los_Angeles:20230615T193000
DTSTAMP:20260423T133926
CREATED:20230614T174127Z
LAST-MODIFIED:20241125T231314Z
UID:48817-1686841200-1686857400@northparkmainstreet.com
SUMMARY:North Park Farmers' Market
DESCRIPTION:
URL:https://northparkmainstreet.com/event/north-park-farmers-market/
LOCATION:North Park Mini Park\, 3812 29th St\, San Diego\, CA\, 92104\, United States
CATEGORIES:Community Events,NPMS
ATTACH;FMTTYPE=image/png:https://northparkmainstreet.com/wp-content/uploads/2023/06/2018_FarmersMarket_4x4.png
END:VEVENT
BEGIN:VEVENT
DTSTART;TZID=America/Los_Angeles:20231026T180000
DTEND;TZID=America/Los_Angeles:20231026T203000
DTSTAMP:20260423T133926
CREATED:20231019T221156Z
LAST-MODIFIED:20231019T221156Z
UID:49653-1698343200-1698352200@northparkmainstreet.com
SUMMARY:Two Scientists Walk Into a Bar: Bar Crawl
DESCRIPTION:Two Scientists Walk Into a Bar: Bar Crawl Edition is your opportunity to engage with local scientists at your favorite neighborhood bars. Satisfy your curiosity as you enjoy a drink and spark fascinating conversations with experts from various fields.
URL:https://northparkmainstreet.com/event/two-scientists-walk-into-a-bar-bar-crawl/
LOCATION:Multiple Spots
CATEGORIES:Community Events,Dinning & Entertainment
ATTACH;FMTTYPE=image/png:https://northparkmainstreet.com/wp-content/uploads/2023/10/Two-Scientist-Crawl-Pic.png
ORGANIZER;CN="Fleet Science Center":MAILTO:skocsik@rhfleet.org
END:VEVENT
BEGIN:VEVENT
DTSTART;TZID=America/Los_Angeles:20230615T150000
DTEND;TZID=America/Los_Angeles:20230615T193000
DTSTAMP:20260423T133926
CREATED:20230614T174127Z
LAST-MODIFIED:20241125T231314Z
UID:48817-1686841200-1686857400@northparkmainstreet.com
SUMMARY:North Park Farmers' Market
DESCRIPTION:
URL:https://northparkmainstreet.com/event/north-park-farmers-market/
LOCATION:North Park Mini Park\, 3812 29th St\, San Diego\, CA\, 92104\, United States
CATEGORIES:Community Events,NPMS
ATTACH;FMTTYPE=image/png:https://northparkmainstreet.com/wp-content/uploads/2023/06/2018_FarmersMarket_4x4.png
END:VEVENT
BEGIN:VEVENT
DTSTART;TZID=America/Los_Angeles:20230615T150000
DTEND;TZID=America/Los_Angeles:20230615T193000
DTSTAMP:20260423T133926
CREATED:20230614T174127Z
LAST-MODIFIED:20241125T231314Z
UID:48817-1686841200-1686857400@northparkmainstreet.com
SUMMARY:North Park Farmers' Market
DESCRIPTION:
URL:https://northparkmainstreet.com/event/north-park-farmers-market/
LOCATION:North Park Mini Park\, 3812 29th St\, San Diego\, CA\, 92104\, United States
CATEGORIES:Community Events,NPMS
ATTACH;FMTTYPE=image/png:https://northparkmainstreet.com/wp-content/uploads/2023/06/2018_FarmersMarket_4x4.png
END:VEVENT
BEGIN:VEVENT
DTSTART;TZID=America/Los_Angeles:20231017T183000
DTEND;TZID=America/Los_Angeles:20231017T183000
DTSTAMP:20260423T133926
CREATED:20231006T144917Z
LAST-MODIFIED:20231006T152522Z
UID:49576-1697567400-1697567400@northparkmainstreet.com
SUMMARY:North Park Planning Committee Monthly Meeting
DESCRIPTION:The North Park Planning Committee (NPPC) represents the citizens of North Park by providing a forum to discuss\, explore\, question and monitor land use and development issues. \nWe provide advisory recommendations to the City regarding projects in the community and are recognized by the City as an important part of the approval process for new development and services. The more participants\, the more influence we have on the future of North Park: how it will look and what it will include. \nSee our Meetings page for the Agenda and Minutes
URL:https://northparkmainstreet.com/event/north-park-planning-committee-monthly-meeting/
LOCATION:Horizon North Park\, 2901 North Park Way\, 2nd Floor\, San Diego\, 92104
CATEGORIES:Community Events
ATTACH;FMTTYPE=image/jpeg:https://northparkmainstreet.com/wp-content/uploads/2023/10/NPPC-Logo.jpg
ORGANIZER;CN="North Park Planing Committee":MAILTO:info@northparkplanning.org
END:VEVENT
BEGIN:VEVENT
DTSTART;TZID=America/Los_Angeles:20230615T150000
DTEND;TZID=America/Los_Angeles:20230615T193000
DTSTAMP:20260423T133926
CREATED:20230614T174127Z
LAST-MODIFIED:20241125T231314Z
UID:48817-1686841200-1686857400@northparkmainstreet.com
SUMMARY:North Park Farmers' Market
DESCRIPTION:
URL:https://northparkmainstreet.com/event/north-park-farmers-market/
LOCATION:North Park Mini Park\, 3812 29th St\, San Diego\, CA\, 92104\, United States
CATEGORIES:Community Events,NPMS
ATTACH;FMTTYPE=image/png:https://northparkmainstreet.com/wp-content/uploads/2023/06/2018_FarmersMarket_4x4.png
END:VEVENT
BEGIN:VEVENT
DTSTART;TZID=America/Los_Angeles:20231007T110000
DTEND;TZID=America/Los_Angeles:20231007T150000
DTSTAMP:20260423T133926
CREATED:20230705T171721Z
LAST-MODIFIED:20231006T151236Z
UID:48915-1696676400-1696690800@northparkmainstreet.com
SUMMARY:Taste of North Park
DESCRIPTION:
URL:https://northparkmainstreet.com/event/taste-of-north-park/
LOCATION:Multiple Check In Spots
CATEGORIES:Community Events,NPMS
ATTACH;FMTTYPE=image/png:https://northparkmainstreet.com/wp-content/uploads/2023/07/White-Logo.png
END:VEVENT
BEGIN:VEVENT
DTSTART;TZID=America/Los_Angeles:20231006T110000
DTEND;TZID=America/Los_Angeles:20231006T113000
DTSTAMP:20260423T133926
CREATED:20230926T165622Z
LAST-MODIFIED:20231006T151243Z
UID:49453-1696590000-1696591800@northparkmainstreet.com
SUMMARY:Ribbon Cutting - Revival Vintage Eyewear & Bui Optometry
DESCRIPTION:Come join us in celebrating Revival and Bui Optometry in North Park!
URL:https://northparkmainstreet.com/event/ribbon-cutting-revival-vintage-eyewear-bui-optometry/
LOCATION:Revival Vintage Eyewear\, 3821 Ray St\, San Diego\, CA\, 92104\, United States
CATEGORIES:Community Events,NPMS
ATTACH;FMTTYPE=image/png:https://northparkmainstreet.com/wp-content/uploads/2023/09/Ribbon-Cuttings-1.png
END:VEVENT
BEGIN:VEVENT
DTSTART;TZID=America/Los_Angeles:20230615T150000
DTEND;TZID=America/Los_Angeles:20230615T193000
DTSTAMP:20260423T133926
CREATED:20230614T174127Z
LAST-MODIFIED:20241125T231314Z
UID:48817-1686841200-1686857400@northparkmainstreet.com
SUMMARY:North Park Farmers' Market
DESCRIPTION:
URL:https://northparkmainstreet.com/event/north-park-farmers-market/
LOCATION:North Park Mini Park\, 3812 29th St\, San Diego\, CA\, 92104\, United States
CATEGORIES:Community Events,NPMS
ATTACH;FMTTYPE=image/png:https://northparkmainstreet.com/wp-content/uploads/2023/06/2018_FarmersMarket_4x4.png
END:VEVENT
BEGIN:VEVENT
DTSTART;TZID=America/Los_Angeles:20230930T170000
DTEND;TZID=America/Los_Angeles:20230930T200000
DTSTAMP:20260423T133926
CREATED:20230912T171832Z
LAST-MODIFIED:20231006T151404Z
UID:49291-1696093200-1696104000@northparkmainstreet.com
SUMMARY:Garden pARTy
DESCRIPTION:Benefiting Art Produce’s exhibits\, residencies\, internships\, and community programs.\n\nSaturday\, September 30th\n5:00 – 8:00 pm\nCelebrate with us in the Art Produce Garden!\nEnjoy our very popular Brown Bag Lotto\, live music with Sue Palmer and Liz Ajuzie\, performance by Brian & Ryan\, and much more…Visit the CONNECT exhibit in the Gallery and make final bids on your favorite works from our incredible community of past and present Artists in Residence (AiRs). The auction closes at 7:30 pm!
URL:https://northparkmainstreet.com/event/garden-party/
LOCATION:Art Produce\, 3139 University Avenue\, San Diego\, CA\, 92104
CATEGORIES:Community Events
ATTACH;FMTTYPE=image/png:https://northparkmainstreet.com/wp-content/uploads/2023/09/Garden-Party-Flyer.png
END:VEVENT
BEGIN:VEVENT
DTSTART;TZID=America/Los_Angeles:20230615T150000
DTEND;TZID=America/Los_Angeles:20230615T193000
DTSTAMP:20260423T133926
CREATED:20230614T174127Z
LAST-MODIFIED:20241125T231314Z
UID:48817-1686841200-1686857400@northparkmainstreet.com
SUMMARY:North Park Farmers' Market
DESCRIPTION:
URL:https://northparkmainstreet.com/event/north-park-farmers-market/
LOCATION:North Park Mini Park\, 3812 29th St\, San Diego\, CA\, 92104\, United States
CATEGORIES:Community Events,NPMS
ATTACH;FMTTYPE=image/png:https://northparkmainstreet.com/wp-content/uploads/2023/06/2018_FarmersMarket_4x4.png
END:VEVENT
BEGIN:VEVENT
DTSTART;TZID=America/Los_Angeles:20230615T150000
DTEND;TZID=America/Los_Angeles:20230615T193000
DTSTAMP:20260423T133926
CREATED:20230614T174127Z
LAST-MODIFIED:20241125T231314Z
UID:48817-1686841200-1686857400@northparkmainstreet.com
SUMMARY:North Park Farmers' Market
DESCRIPTION:
URL:https://northparkmainstreet.com/event/north-park-farmers-market/
LOCATION:North Park Mini Park\, 3812 29th St\, San Diego\, CA\, 92104\, United States
CATEGORIES:Community Events,NPMS
ATTACH;FMTTYPE=image/png:https://northparkmainstreet.com/wp-content/uploads/2023/06/2018_FarmersMarket_4x4.png
END:VEVENT
BEGIN:VEVENT
DTSTART;TZID=America/Los_Angeles:20230615T150000
DTEND;TZID=America/Los_Angeles:20230615T193000
DTSTAMP:20260423T133926
CREATED:20230614T174127Z
LAST-MODIFIED:20241125T231314Z
UID:48817-1686841200-1686857400@northparkmainstreet.com
SUMMARY:North Park Farmers' Market
DESCRIPTION:
URL:https://northparkmainstreet.com/event/north-park-farmers-market/
LOCATION:North Park Mini Park\, 3812 29th St\, San Diego\, CA\, 92104\, United States
CATEGORIES:Community Events,NPMS
ATTACH;FMTTYPE=image/png:https://northparkmainstreet.com/wp-content/uploads/2023/06/2018_FarmersMarket_4x4.png
END:VEVENT
BEGIN:VEVENT
DTSTART;TZID=America/Los_Angeles:20230615T150000
DTEND;TZID=America/Los_Angeles:20230615T193000
DTSTAMP:20260423T133926
CREATED:20230614T174127Z
LAST-MODIFIED:20241125T231314Z
UID:48817-1686841200-1686857400@northparkmainstreet.com
SUMMARY:North Park Farmers' Market
DESCRIPTION:
URL:https://northparkmainstreet.com/event/north-park-farmers-market/
LOCATION:North Park Mini Park\, 3812 29th St\, San Diego\, CA\, 92104\, United States
CATEGORIES:Community Events,NPMS
ATTACH;FMTTYPE=image/png:https://northparkmainstreet.com/wp-content/uploads/2023/06/2018_FarmersMarket_4x4.png
END:VEVENT
BEGIN:VEVENT
DTSTART;TZID=America/Los_Angeles:20230615T150000
DTEND;TZID=America/Los_Angeles:20230615T193000
DTSTAMP:20260423T133926
CREATED:20230614T174127Z
LAST-MODIFIED:20241125T231314Z
UID:48817-1686841200-1686857400@northparkmainstreet.com
SUMMARY:North Park Farmers' Market
DESCRIPTION:
URL:https://northparkmainstreet.com/event/north-park-farmers-market/
LOCATION:North Park Mini Park\, 3812 29th St\, San Diego\, CA\, 92104\, United States
CATEGORIES:Community Events,NPMS
ATTACH;FMTTYPE=image/png:https://northparkmainstreet.com/wp-content/uploads/2023/06/2018_FarmersMarket_4x4.png
END:VEVENT
BEGIN:VEVENT
DTSTART;TZID=America/Los_Angeles:20230615T150000
DTEND;TZID=America/Los_Angeles:20230615T193000
DTSTAMP:20260423T133926
CREATED:20230614T174127Z
LAST-MODIFIED:20241125T231314Z
UID:48817-1686841200-1686857400@northparkmainstreet.com
SUMMARY:North Park Farmers' Market
DESCRIPTION:
URL:https://northparkmainstreet.com/event/north-park-farmers-market/
LOCATION:North Park Mini Park\, 3812 29th St\, San Diego\, CA\, 92104\, United States
CATEGORIES:Community Events,NPMS
ATTACH;FMTTYPE=image/png:https://northparkmainstreet.com/wp-content/uploads/2023/06/2018_FarmersMarket_4x4.png
END:VEVENT
BEGIN:VEVENT
DTSTART;TZID=America/Los_Angeles:20230615T150000
DTEND;TZID=America/Los_Angeles:20230615T193000
DTSTAMP:20260423T133926
CREATED:20230614T174127Z
LAST-MODIFIED:20241125T231314Z
UID:48817-1686841200-1686857400@northparkmainstreet.com
SUMMARY:North Park Farmers' Market
DESCRIPTION:
URL:https://northparkmainstreet.com/event/north-park-farmers-market/
LOCATION:North Park Mini Park\, 3812 29th St\, San Diego\, CA\, 92104\, United States
CATEGORIES:Community Events,NPMS
ATTACH;FMTTYPE=image/png:https://northparkmainstreet.com/wp-content/uploads/2023/06/2018_FarmersMarket_4x4.png
END:VEVENT
BEGIN:VEVENT
DTSTART;TZID=America/Los_Angeles:20230615T150000
DTEND;TZID=America/Los_Angeles:20230615T193000
DTSTAMP:20260423T133926
CREATED:20230614T174127Z
LAST-MODIFIED:20241125T231314Z
UID:48817-1686841200-1686857400@northparkmainstreet.com
SUMMARY:North Park Farmers' Market
DESCRIPTION:
URL:https://northparkmainstreet.com/event/north-park-farmers-market/
LOCATION:North Park Mini Park\, 3812 29th St\, San Diego\, CA\, 92104\, United States
CATEGORIES:Community Events,NPMS
ATTACH;FMTTYPE=image/png:https://northparkmainstreet.com/wp-content/uploads/2023/06/2018_FarmersMarket_4x4.png
END:VEVENT
BEGIN:VEVENT
DTSTART;TZID=America/Los_Angeles:20230615T150000
DTEND;TZID=America/Los_Angeles:20230615T193000
DTSTAMP:20260423T133926
CREATED:20230614T174127Z
LAST-MODIFIED:20241125T231314Z
UID:48817-1686841200-1686857400@northparkmainstreet.com
SUMMARY:North Park Farmers' Market
DESCRIPTION:
URL:https://northparkmainstreet.com/event/north-park-farmers-market/
LOCATION:North Park Mini Park\, 3812 29th St\, San Diego\, CA\, 92104\, United States
CATEGORIES:Community Events,NPMS
ATTACH;FMTTYPE=image/png:https://northparkmainstreet.com/wp-content/uploads/2023/06/2018_FarmersMarket_4x4.png
END:VEVENT
BEGIN:VEVENT
DTSTART;TZID=America/Los_Angeles:20230615T150000
DTEND;TZID=America/Los_Angeles:20230615T193000
DTSTAMP:20260423T133926
CREATED:20230614T174127Z
LAST-MODIFIED:20241125T231314Z
UID:48817-1686841200-1686857400@northparkmainstreet.com
SUMMARY:North Park Farmers' Market
DESCRIPTION:
URL:https://northparkmainstreet.com/event/north-park-farmers-market/
LOCATION:North Park Mini Park\, 3812 29th St\, San Diego\, CA\, 92104\, United States
CATEGORIES:Community Events,NPMS
ATTACH;FMTTYPE=image/png:https://northparkmainstreet.com/wp-content/uploads/2023/06/2018_FarmersMarket_4x4.png
END:VEVENT
BEGIN:VEVENT
DTSTART;TZID=America/Los_Angeles:20230615T150000
DTEND;TZID=America/Los_Angeles:20230615T193000
DTSTAMP:20260423T133926
CREATED:20230614T174127Z
LAST-MODIFIED:20241125T231314Z
UID:48817-1686841200-1686857400@northparkmainstreet.com
SUMMARY:North Park Farmers' Market
DESCRIPTION:
URL:https://northparkmainstreet.com/event/north-park-farmers-market/
LOCATION:North Park Mini Park\, 3812 29th St\, San Diego\, CA\, 92104\, United States
CATEGORIES:Community Events,NPMS
ATTACH;FMTTYPE=image/png:https://northparkmainstreet.com/wp-content/uploads/2023/06/2018_FarmersMarket_4x4.png
END:VEVENT
BEGIN:VEVENT
DTSTART;TZID=America/Los_Angeles:20230615T150000
DTEND;TZID=America/Los_Angeles:20230615T193000
DTSTAMP:20260423T133926
CREATED:20230614T174127Z
LAST-MODIFIED:20241125T231314Z
UID:48817-1686841200-1686857400@northparkmainstreet.com
SUMMARY:North Park Farmers' Market
DESCRIPTION:
URL:https://northparkmainstreet.com/event/north-park-farmers-market/
LOCATION:North Park Mini Park\, 3812 29th St\, San Diego\, CA\, 92104\, United States
CATEGORIES:Community Events,NPMS
ATTACH;FMTTYPE=image/png:https://northparkmainstreet.com/wp-content/uploads/2023/06/2018_FarmersMarket_4x4.png
END:VEVENT
BEGIN:VEVENT
DTSTART;TZID=America/Los_Angeles:20230615T150000
DTEND;TZID=America/Los_Angeles:20230615T193000
DTSTAMP:20260423T133926
CREATED:20230614T174127Z
LAST-MODIFIED:20241125T231314Z
UID:48817-1686841200-1686857400@northparkmainstreet.com
SUMMARY:North Park Farmers' Market
DESCRIPTION:
URL:https://northparkmainstreet.com/event/north-park-farmers-market/
LOCATION:North Park Mini Park\, 3812 29th St\, San Diego\, CA\, 92104\, United States
CATEGORIES:Community Events,NPMS
ATTACH;FMTTYPE=image/png:https://northparkmainstreet.com/wp-content/uploads/2023/06/2018_FarmersMarket_4x4.png
END:VEVENT
BEGIN:VEVENT
DTSTART;TZID=America/Los_Angeles:20230615T150000
DTEND;TZID=America/Los_Angeles:20230615T193000
DTSTAMP:20260423T133926
CREATED:20230614T174127Z
LAST-MODIFIED:20241125T231314Z
UID:48817-1686841200-1686857400@northparkmainstreet.com
SUMMARY:North Park Farmers' Market
DESCRIPTION:
URL:https://northparkmainstreet.com/event/north-park-farmers-market/
LOCATION:North Park Mini Park\, 3812 29th St\, San Diego\, CA\, 92104\, United States
CATEGORIES:Community Events,NPMS
ATTACH;FMTTYPE=image/png:https://northparkmainstreet.com/wp-content/uploads/2023/06/2018_FarmersMarket_4x4.png
END:VEVENT
BEGIN:VEVENT
DTSTART;TZID=America/Los_Angeles:20230615T150000
DTEND;TZID=America/Los_Angeles:20230615T193000
DTSTAMP:20260423T133926
CREATED:20230614T174127Z
LAST-MODIFIED:20241125T231314Z
UID:48817-1686841200-1686857400@northparkmainstreet.com
SUMMARY:North Park Farmers' Market
DESCRIPTION:
URL:https://northparkmainstreet.com/event/north-park-farmers-market/
LOCATION:North Park Mini Park\, 3812 29th St\, San Diego\, CA\, 92104\, United States
CATEGORIES:Community Events,NPMS
ATTACH;FMTTYPE=image/png:https://northparkmainstreet.com/wp-content/uploads/2023/06/2018_FarmersMarket_4x4.png
END:VEVENT
BEGIN:VEVENT
DTSTART;TZID=America/Los_Angeles:20230615T150000
DTEND;TZID=America/Los_Angeles:20230615T193000
DTSTAMP:20260423T133926
CREATED:20230614T174127Z
LAST-MODIFIED:20241125T231314Z
UID:48817-1686841200-1686857400@northparkmainstreet.com
SUMMARY:North Park Farmers' Market
DESCRIPTION:
URL:https://northparkmainstreet.com/event/north-park-farmers-market/
LOCATION:North Park Mini Park\, 3812 29th St\, San Diego\, CA\, 92104\, United States
CATEGORIES:Community Events,NPMS
ATTACH;FMTTYPE=image/png:https://northparkmainstreet.com/wp-content/uploads/2023/06/2018_FarmersMarket_4x4.png
END:VEVENT
END:VCALENDAR