BEGIN:VCALENDAR
VERSION:2.0
PRODID:-//North Park Main Street - ECPv6.15.20//NONSGML v1.0//EN
CALSCALE:GREGORIAN
METHOD:PUBLISH
X-WR-CALNAME:North Park Main Street
X-ORIGINAL-URL:https://northparkmainstreet.com
X-WR-CALDESC:Events for North Park Main Street
REFRESH-INTERVAL;VALUE=DURATION:PT1H
X-Robots-Tag:noindex
X-PUBLISHED-TTL:PT1H
BEGIN:VTIMEZONE
TZID:America/Los_Angeles
BEGIN:DAYLIGHT
TZOFFSETFROM:-0800
TZOFFSETTO:-0700
TZNAME:PDT
DTSTART:20240310T100000
END:DAYLIGHT
BEGIN:STANDARD
TZOFFSETFROM:-0700
TZOFFSETTO:-0800
TZNAME:PST
DTSTART:20241103T090000
END:STANDARD
BEGIN:DAYLIGHT
TZOFFSETFROM:-0800
TZOFFSETTO:-0700
TZNAME:PDT
DTSTART:20250309T100000
END:DAYLIGHT
BEGIN:STANDARD
TZOFFSETFROM:-0700
TZOFFSETTO:-0800
TZNAME:PST
DTSTART:20251102T090000
END:STANDARD
BEGIN:DAYLIGHT
TZOFFSETFROM:-0800
TZOFFSETTO:-0700
TZNAME:PDT
DTSTART:20260308T100000
END:DAYLIGHT
BEGIN:STANDARD
TZOFFSETFROM:-0700
TZOFFSETTO:-0800
TZNAME:PST
DTSTART:20261101T090000
END:STANDARD
END:VTIMEZONE
BEGIN:VEVENT
DTSTART;TZID=America/Los_Angeles:20251123T100000
DTEND;TZID=America/Los_Angeles:20251123T120000
DTSTAMP:20260419T223420
CREATED:20251114T182418Z
LAST-MODIFIED:20251114T182418Z
UID:53739-1763892000-1763899200@northparkmainstreet.com
SUMMARY:Ribbon Cutting - In Good Faith Tattoo
DESCRIPTION:In Good Faith Tattoo invites the North Park community to join us for our grand opening and ribbon cutting on Sunday\, November 23rd. We hope to see you there as we celebrate and support North Park’s small businesses. Plus—the first 25 guests will receive a free t-shirt! \nEvent Details: \n\nRibbon Cutting Ceremony: 10:00 AM\nCelebration: 10:00 AM – 12:00 PM\nLocation: 3822 Ray St\n\nAbout Us – In Good Faith Tattoo \nIn Good Faith Tattoo is built on the idea of achieving despite the odds not being in your favor. Taking a risk and betting on themselves\, our parents made their way to the United States\, venturing into a country they knew little about. They took a leap of faith\, sacrificing their lives in Mexico & Vietnam to hopefully plant the seeds for something greater for their children. For us\, that seed has grown into this shop. Sprinkled throughout our studio are reminders of where we came from\, our roots\, our culture\, our family. Thank you for your support in helping us make them proud!
URL:https://northparkmainstreet.com/event/ribbon-cutting-in-good-faith-tattoo/
LOCATION:In Good Faith Tattooo\, 3822 Ray Street\, San Diego\, CA\, 92104\, United States
CATEGORIES:Community Events
ATTACH;FMTTYPE=image/jpeg:https://northparkmainstreet.com/wp-content/uploads/2025/11/IMG_6925-scaled.jpeg
END:VEVENT
END:VCALENDAR