BEGIN:VCALENDAR
VERSION:2.0
PRODID:-//North Park Main Street - ECPv6.15.20//NONSGML v1.0//EN
CALSCALE:GREGORIAN
METHOD:PUBLISH
X-ORIGINAL-URL:https://northparkmainstreet.com
X-WR-CALDESC:Events for North Park Main Street
REFRESH-INTERVAL;VALUE=DURATION:PT1H
X-Robots-Tag:noindex
X-PUBLISHED-TTL:PT1H
BEGIN:VTIMEZONE
TZID:America/Los_Angeles
BEGIN:DAYLIGHT
TZOFFSETFROM:-0800
TZOFFSETTO:-0700
TZNAME:PDT
DTSTART:20240310T100000
END:DAYLIGHT
BEGIN:STANDARD
TZOFFSETFROM:-0700
TZOFFSETTO:-0800
TZNAME:PST
DTSTART:20241103T090000
END:STANDARD
BEGIN:DAYLIGHT
TZOFFSETFROM:-0800
TZOFFSETTO:-0700
TZNAME:PDT
DTSTART:20250309T100000
END:DAYLIGHT
BEGIN:STANDARD
TZOFFSETFROM:-0700
TZOFFSETTO:-0800
TZNAME:PST
DTSTART:20251102T090000
END:STANDARD
BEGIN:DAYLIGHT
TZOFFSETFROM:-0800
TZOFFSETTO:-0700
TZNAME:PDT
DTSTART:20260308T100000
END:DAYLIGHT
BEGIN:STANDARD
TZOFFSETFROM:-0700
TZOFFSETTO:-0800
TZNAME:PST
DTSTART:20261101T090000
END:STANDARD
END:VTIMEZONE
BEGIN:VEVENT
DTSTART;TZID=America/Los_Angeles:20250614T100000
DTEND;TZID=America/Los_Angeles:20250614T140000
DTSTAMP:20260422T061639
CREATED:20250521T172414Z
LAST-MODIFIED:20250521T172414Z
UID:53396-1749895200-1749909600@northparkmainstreet.com
SUMMARY:Horizon North Park: Family Fun Day
DESCRIPTION:Get ready for a fantastic day filled with joy and togetherness at Horizon North Park’s Free Family Fun Day! 🎉✨ \n📅 Date: Saturday\, June 14\, 2025⏰ Time: 10:00 AM to 2:00 PM📍 Location: Horizon North Park Christian Fellowship\, 2901 North Park Way\, San Diego\, CA \n🎨 Activities Include: \n\n\nFree creative crafts 🖍️ \n\n\nExciting games 🎯 \n\n\nDelicious snacks 🍪 \n\n\nChildren’s playground fun 🛝 \n\n\nCommunity fellowship ❤️ \n\n\nBring your family and friends for a day of laughter\, bonding\, and blessings! For more info\, call 1-619-220-8580. Don’t miss out!”
URL:https://northparkmainstreet.com/event/horizon-north-park-family-fun-day/
LOCATION:Horizon North Park\, 2901 North Park Way\, 2nd Floor\, San Diego\, 92104
CATEGORIES:Community Events
ATTACH;FMTTYPE=image/png:https://northparkmainstreet.com/wp-content/uploads/2025/05/NPCF-Family-Outreach-Flyer.png
END:VEVENT
END:VCALENDAR