BEGIN:VCALENDAR
VERSION:2.0
PRODID:-//North Park Main Street - ECPv6.15.20//NONSGML v1.0//EN
CALSCALE:GREGORIAN
METHOD:PUBLISH
X-WR-CALNAME:North Park Main Street
X-ORIGINAL-URL:https://northparkmainstreet.com
X-WR-CALDESC:Events for North Park Main Street
REFRESH-INTERVAL;VALUE=DURATION:PT1H
X-Robots-Tag:noindex
X-PUBLISHED-TTL:PT1H
BEGIN:VTIMEZONE
TZID:America/Los_Angeles
BEGIN:DAYLIGHT
TZOFFSETFROM:-0800
TZOFFSETTO:-0700
TZNAME:PDT
DTSTART:20230312T100000
END:DAYLIGHT
BEGIN:STANDARD
TZOFFSETFROM:-0700
TZOFFSETTO:-0800
TZNAME:PST
DTSTART:20231105T090000
END:STANDARD
BEGIN:DAYLIGHT
TZOFFSETFROM:-0800
TZOFFSETTO:-0700
TZNAME:PDT
DTSTART:20240310T100000
END:DAYLIGHT
BEGIN:STANDARD
TZOFFSETFROM:-0700
TZOFFSETTO:-0800
TZNAME:PST
DTSTART:20241103T090000
END:STANDARD
BEGIN:DAYLIGHT
TZOFFSETFROM:-0800
TZOFFSETTO:-0700
TZNAME:PDT
DTSTART:20250309T100000
END:DAYLIGHT
BEGIN:STANDARD
TZOFFSETFROM:-0700
TZOFFSETTO:-0800
TZNAME:PST
DTSTART:20251102T090000
END:STANDARD
END:VTIMEZONE
BEGIN:VEVENT
DTSTART;TZID=America/Los_Angeles:20241025T060000
DTEND;TZID=America/Los_Angeles:20241025T230000
DTSTAMP:20260422T061557
CREATED:20241014T220720Z
LAST-MODIFIED:20241014T220720Z
UID:52365-1729836000-1729897200@northparkmainstreet.com
SUMMARY:Vietnamese Coffee Can Release and Pumpkin Carving 
DESCRIPTION:Join us at Mike Hess Brewing on October 25th\, 2024 at 6 PM for the Vietnamese Coffee Stout Can Release Party! Bring Your Own Pumpkin (BYOP) for a carving contest starting at 6 PM with prizes for the best designs. Enjoy $6 pints for all carvers featuring Blu Coffee. Don’t miss out on great beer and creative fun!
URL:https://northparkmainstreet.com/event/vietnamese-coffee-can-release-and-pumpkin-carving/
LOCATION:Mike Hess Brewery – North Park\, 3812 Grim Ave\, San Diego\, CA\, 92104\, United States
CATEGORIES:Community Events
ATTACH;FMTTYPE=image/png:https://northparkmainstreet.com/wp-content/uploads/2024/10/vietnamese-coffee-1.png
END:VEVENT
END:VCALENDAR