BEGIN:VCALENDAR
VERSION:2.0
PRODID:-//North Park Main Street - ECPv6.15.20//NONSGML v1.0//EN
CALSCALE:GREGORIAN
METHOD:PUBLISH
X-WR-CALNAME:North Park Main Street
X-ORIGINAL-URL:https://northparkmainstreet.com
X-WR-CALDESC:Events for North Park Main Street
REFRESH-INTERVAL;VALUE=DURATION:PT1H
X-Robots-Tag:noindex
X-PUBLISHED-TTL:PT1H
BEGIN:VTIMEZONE
TZID:America/Los_Angeles
BEGIN:DAYLIGHT
TZOFFSETFROM:-0800
TZOFFSETTO:-0700
TZNAME:PDT
DTSTART:20230312T100000
END:DAYLIGHT
BEGIN:STANDARD
TZOFFSETFROM:-0700
TZOFFSETTO:-0800
TZNAME:PST
DTSTART:20231105T090000
END:STANDARD
BEGIN:DAYLIGHT
TZOFFSETFROM:-0800
TZOFFSETTO:-0700
TZNAME:PDT
DTSTART:20240310T100000
END:DAYLIGHT
BEGIN:STANDARD
TZOFFSETFROM:-0700
TZOFFSETTO:-0800
TZNAME:PST
DTSTART:20241103T090000
END:STANDARD
BEGIN:DAYLIGHT
TZOFFSETFROM:-0800
TZOFFSETTO:-0700
TZNAME:PDT
DTSTART:20250309T100000
END:DAYLIGHT
BEGIN:STANDARD
TZOFFSETFROM:-0700
TZOFFSETTO:-0800
TZNAME:PST
DTSTART:20251102T090000
END:STANDARD
END:VTIMEZONE
BEGIN:VEVENT
DTSTART;TZID=America/Los_Angeles:20241012T120000
DTEND;TZID=America/Los_Angeles:20241012T160000
DTSTAMP:20260422T061557
CREATED:20240904T183421Z
LAST-MODIFIED:20240904T183805Z
UID:52155-1728734400-1728748800@northparkmainstreet.com
SUMMARY:San Diego Super Adoption
DESCRIPTION:Join A Way Home For Dogs and other local rescues and shelters at the North Park Mini Park to meet over a hundred adoptable dogs\, cats\, puppies and kittens. Connect with local organizations that are making a difference and learn about volunteer opportunities\, fostering and other ways to help homeless animals in San Diego. \nRESCUE GROUPS & SHELTERS: \n\nA Way Home for Dogs\nAngels For Dogs And Cats Rescue\nChihuahua Rescue of San Diego County\nCounty of San Diego Animal Services (Bonita)\nLionel’s Legacy\nPAWS of Coronado\nRescue Fenix\nSPOT\nThe Animal Pad\nFrosted Faces Foundation\nToday\, Tomorrow and Forever Animal Rescue\nThrive Animal Rescue\n\nADDITIONAL PARTICIPANTS: \n\nRuger’s Rescues\nSNAP\nTotful Treats\n\nThis event will be held at the North Park Vegan Market\, San Diego’s biggest outdoor vegan market featuring over 50 vendors. Enjoy eats and treats from an international food court and shop a curated selection of local products\, crafts and services. \nPARKING: There is a 6-story parking garage on 29th St and North Park Way. Additionally\, there is free street parking nearby.
URL:https://northparkmainstreet.com/event/san-diego-super-adoption-2/
LOCATION:North Park Mini Park\, 3812 29th St\, San Diego\, CA\, 92104\, United States
CATEGORIES:Community Events,NPMS
ATTACH;FMTTYPE=image/jpeg:https://northparkmainstreet.com/wp-content/uploads/2024/09/thumbnail_101224-super-adoption-flyer-web.jpg
ORGANIZER;CN="Vegan Food Popup":MAILTO:info@veganfoodpopup.com
END:VEVENT
END:VCALENDAR