BEGIN:VCALENDAR
VERSION:2.0
PRODID:-//North Park Main Street - ECPv6.15.20//NONSGML v1.0//EN
CALSCALE:GREGORIAN
METHOD:PUBLISH
X-WR-CALNAME:North Park Main Street
X-ORIGINAL-URL:https://northparkmainstreet.com
X-WR-CALDESC:Events for North Park Main Street
REFRESH-INTERVAL;VALUE=DURATION:PT1H
X-Robots-Tag:noindex
X-PUBLISHED-TTL:PT1H
BEGIN:VTIMEZONE
TZID:America/Los_Angeles
BEGIN:DAYLIGHT
TZOFFSETFROM:-0800
TZOFFSETTO:-0700
TZNAME:PDT
DTSTART:20230312T100000
END:DAYLIGHT
BEGIN:STANDARD
TZOFFSETFROM:-0700
TZOFFSETTO:-0800
TZNAME:PST
DTSTART:20231105T090000
END:STANDARD
BEGIN:DAYLIGHT
TZOFFSETFROM:-0800
TZOFFSETTO:-0700
TZNAME:PDT
DTSTART:20240310T100000
END:DAYLIGHT
BEGIN:STANDARD
TZOFFSETFROM:-0700
TZOFFSETTO:-0800
TZNAME:PST
DTSTART:20241103T090000
END:STANDARD
BEGIN:DAYLIGHT
TZOFFSETFROM:-0800
TZOFFSETTO:-0700
TZNAME:PDT
DTSTART:20250309T100000
END:DAYLIGHT
BEGIN:STANDARD
TZOFFSETFROM:-0700
TZOFFSETTO:-0800
TZNAME:PST
DTSTART:20251102T090000
END:STANDARD
END:VTIMEZONE
BEGIN:VEVENT
DTSTART;TZID=America/Los_Angeles:20240608T100000
DTEND;TZID=America/Los_Angeles:20240608T120000
DTSTAMP:20260422T044433
CREATED:20240605T233437Z
LAST-MODIFIED:20240605T233829Z
UID:51531-1717840800-1717848000@northparkmainstreet.com
SUMMARY:Bikes Mean Business Kick Off Ride
DESCRIPTION:Join Us for the BikeSD and North Park Main Street Bike Coupon Program Kickoff Ride!\nCelebrate the launch of our pilot Bike Coupon program with a community bike ride! This initiative showcases how bike-friendly infrastructure makes it easy to visit your favorite local businesses by bicycle. We’ve partnered with select businesses along 30th Street to offer exclusive discounts to cyclists. To access these discounts\, you’ll need a genuine Bike Coupon Booklet\, available at our kickoff ride on Saturday\, June 8th\, at 10 am! \nEvent Details\n\nMeeting Location: North Park Community Park\nMeeting Time: Saturday\, June 8th\, at 10 am (ride begins at 10:30 am)\nBiking Level: All ages and types of bicycles welcome\nBike Route: 30th Street bike lane\, from El Cajon Blvd to Juniper\n\nFAQ\nWhat is a Bike Coupon Booklet?\nThe Bike Coupon Booklet grants you access to discounts and special offers at participating businesses. To redeem these offers\, you must present the booklet and arrive by bike. \nWhere can I get a Bike Coupon Booklet?\nAs this is a pilot program\, booklets are limited. Attend the kickoff ride to receive your booklet while supplies last. \nWhy is this a ‘pilot’ program?\nWe’ve seen significant interest in this concept. A limited run allows us to test and refine the program for future iterations. \nWho are the participating businesses?\nThis initial round includes: Origins Grocer (formerly The Mighty Bin)\, The North Park Farmers Market\, Mabel’s Gone Fishing\, The Book Catapult\, Secret Sister\, and the Rose. If you’re a business owner interested in future participation\, please contact us at info@northparkmainstreet.com. \nWhy are you doing this?\nNorth Park has benefited from improved biking infrastructure and reduced car dependency. We want to highlight how residents can enjoy their weekends and access their favorite spots by bike. \nDo I need to RSVP?\nRSVPs are not required but help us gauge interest in the program. \nDoes it cost anything to participate?\nParticipation is free! Join the kickoff ride to get your booklet\, while supplies last. Note that some discounts may require a purchase.
URL:https://northparkmainstreet.com/event/bikes-mean-business-kick-off-ride/
LOCATION:CA
CATEGORIES:Community Events
ATTACH;FMTTYPE=image/jpeg:https://northparkmainstreet.com/wp-content/uploads/2024/06/Image.jpg
END:VEVENT
END:VCALENDAR