BEGIN:VCALENDAR
VERSION:2.0
PRODID:-//North Park Main Street - ECPv6.15.20//NONSGML v1.0//EN
CALSCALE:GREGORIAN
METHOD:PUBLISH
X-ORIGINAL-URL:https://northparkmainstreet.com
X-WR-CALDESC:Events for North Park Main Street
REFRESH-INTERVAL;VALUE=DURATION:PT1H
X-Robots-Tag:noindex
X-PUBLISHED-TTL:PT1H
BEGIN:VTIMEZONE
TZID:America/Los_Angeles
BEGIN:DAYLIGHT
TZOFFSETFROM:-0800
TZOFFSETTO:-0700
TZNAME:PDT
DTSTART:20230312T100000
END:DAYLIGHT
BEGIN:STANDARD
TZOFFSETFROM:-0700
TZOFFSETTO:-0800
TZNAME:PST
DTSTART:20231105T090000
END:STANDARD
BEGIN:DAYLIGHT
TZOFFSETFROM:-0800
TZOFFSETTO:-0700
TZNAME:PDT
DTSTART:20240310T100000
END:DAYLIGHT
BEGIN:STANDARD
TZOFFSETFROM:-0700
TZOFFSETTO:-0800
TZNAME:PST
DTSTART:20241103T090000
END:STANDARD
BEGIN:DAYLIGHT
TZOFFSETFROM:-0800
TZOFFSETTO:-0700
TZNAME:PDT
DTSTART:20250309T100000
END:DAYLIGHT
BEGIN:STANDARD
TZOFFSETFROM:-0700
TZOFFSETTO:-0800
TZNAME:PST
DTSTART:20251102T090000
END:STANDARD
END:VTIMEZONE
BEGIN:VEVENT
DTSTART;TZID=America/Los_Angeles:20240324T100000
DTEND;TZID=America/Los_Angeles:20240324T110000
DTSTAMP:20260420T002412
CREATED:20240305T211308Z
LAST-MODIFIED:20240320T194912Z
UID:50938-1711274400-1711278000@northparkmainstreet.com
SUMMARY:Women's History Month Mixer!
DESCRIPTION:To all the women-owned businesses in North Park\, you are invited to our special event that celebrates and honors the contributions of the incredible women in North Park. \n? Date: Sunday\, March 24th \n? Time: 10-11 am \nPlease RSVP by March 20th to ensure we have enough food and drinks for all attendees. \nCLICK HERE TO RSVP \nVideo & Editing Credit: Earthy Creative Agency
URL:https://northparkmainstreet.com/event/womens-history-month-mixer/
LOCATION:Granada House\, 3855 Granada Ave\, San Diego\, CA\, 92104\, United States
CATEGORIES:Community Events
ATTACH;FMTTYPE=image/png:https://northparkmainstreet.com/wp-content/uploads/2024/03/WHMM-24-2.png
END:VEVENT
END:VCALENDAR