BEGIN:VCALENDAR
VERSION:2.0
PRODID:-//North Park Main Street - ECPv6.15.20//NONSGML v1.0//EN
CALSCALE:GREGORIAN
METHOD:PUBLISH
X-ORIGINAL-URL:https://northparkmainstreet.com
X-WR-CALDESC:Events for North Park Main Street
REFRESH-INTERVAL;VALUE=DURATION:PT1H
X-Robots-Tag:noindex
X-PUBLISHED-TTL:PT1H
BEGIN:VTIMEZONE
TZID:America/Los_Angeles
BEGIN:DAYLIGHT
TZOFFSETFROM:-0800
TZOFFSETTO:-0700
TZNAME:PDT
DTSTART:20230312T100000
END:DAYLIGHT
BEGIN:STANDARD
TZOFFSETFROM:-0700
TZOFFSETTO:-0800
TZNAME:PST
DTSTART:20231105T090000
END:STANDARD
BEGIN:DAYLIGHT
TZOFFSETFROM:-0800
TZOFFSETTO:-0700
TZNAME:PDT
DTSTART:20240310T100000
END:DAYLIGHT
BEGIN:STANDARD
TZOFFSETFROM:-0700
TZOFFSETTO:-0800
TZNAME:PST
DTSTART:20241103T090000
END:STANDARD
BEGIN:DAYLIGHT
TZOFFSETFROM:-0800
TZOFFSETTO:-0700
TZNAME:PDT
DTSTART:20250309T100000
END:DAYLIGHT
BEGIN:STANDARD
TZOFFSETFROM:-0700
TZOFFSETTO:-0800
TZNAME:PST
DTSTART:20251102T090000
END:STANDARD
END:VTIMEZONE
BEGIN:VEVENT
DTSTART;TZID=America/Los_Angeles:20240130T140000
DTEND;TZID=America/Los_Angeles:20240130T160000
DTSTAMP:20260419T213208
CREATED:20231219T223801Z
LAST-MODIFIED:20240124T213415Z
UID:50298-1706623200-1706630400@northparkmainstreet.com
SUMMARY:State of District Address - Business Forum
DESCRIPTION:Save the date! Business Forum: State of the District Address is happening at Bivouac’s brand-new Adventure Lodge on January 30th. Join us for a recap of 2023 and a sneak peek into North Park’s plans for 2024. Secure your spot now by RSVPing through the link below.
URL:https://northparkmainstreet.com/event/state-of-district-address-q1-business-forum/
LOCATION:Bivouac Ciderworks\, 3986 30th Street\, San Diego\, CA\, 92104
CATEGORIES:Community Events
ATTACH;FMTTYPE=image/png:https://northparkmainstreet.com/wp-content/uploads/2023/12/Copy-of-2024-Business-Forum-Instagram-Post.png
END:VEVENT
END:VCALENDAR