BEGIN:VCALENDAR
VERSION:2.0
PRODID:-//North Park Main Street - ECPv6.15.20//NONSGML v1.0//EN
CALSCALE:GREGORIAN
METHOD:PUBLISH
X-ORIGINAL-URL:https://northparkmainstreet.com
X-WR-CALDESC:Events for North Park Main Street
REFRESH-INTERVAL;VALUE=DURATION:PT1H
X-Robots-Tag:noindex
X-PUBLISHED-TTL:PT1H
BEGIN:VTIMEZONE
TZID:America/Los_Angeles
BEGIN:DAYLIGHT
TZOFFSETFROM:-0800
TZOFFSETTO:-0700
TZNAME:PDT
DTSTART:20220313T100000
END:DAYLIGHT
BEGIN:STANDARD
TZOFFSETFROM:-0700
TZOFFSETTO:-0800
TZNAME:PST
DTSTART:20221106T090000
END:STANDARD
BEGIN:DAYLIGHT
TZOFFSETFROM:-0800
TZOFFSETTO:-0700
TZNAME:PDT
DTSTART:20230312T100000
END:DAYLIGHT
BEGIN:STANDARD
TZOFFSETFROM:-0700
TZOFFSETTO:-0800
TZNAME:PST
DTSTART:20231105T090000
END:STANDARD
BEGIN:DAYLIGHT
TZOFFSETFROM:-0800
TZOFFSETTO:-0700
TZNAME:PDT
DTSTART:20240310T100000
END:DAYLIGHT
BEGIN:STANDARD
TZOFFSETFROM:-0700
TZOFFSETTO:-0800
TZNAME:PST
DTSTART:20241103T090000
END:STANDARD
END:VTIMEZONE
BEGIN:VEVENT
DTSTART;VALUE=DATE:20231124
DTEND;VALUE=DATE:20240101
DTSTAMP:20260419T200056
CREATED:20231121T184902Z
LAST-MODIFIED:20231121T184902Z
UID:50074-1700784000-1704067199@northparkmainstreet.com
SUMMARY:Holiday Garden Market & Craft Works Holiday Show
DESCRIPTION:Craft Works Holiday Shop\nNovember 24 to December 31 2023 \nEach year\, the Art Produce Gallery turns into a holiday shop featuring ceramics\, soaps\, candles\, jewelry\, textiles\, and more from our local community of artists. \nShop Hours:\nThursdays & Fridays 2-6pm\nSaturdays & Sundays 12-6pm
URL:https://northparkmainstreet.com/event/holiday-garden-market-craft-works-holiday-show/
LOCATION:Art Produce\, 3139 University Avenue\, San Diego\, CA\, 92104
CATEGORIES:Community Events
ATTACH;FMTTYPE=image/jpeg:https://northparkmainstreet.com/wp-content/uploads/2023/11/Art-Produce-Event-Flyer.jpg
END:VEVENT
BEGIN:VEVENT
DTSTART;TZID=America/Los_Angeles:20231208T161500
DTEND;TZID=America/Los_Angeles:20231208T170000
DTSTAMP:20260419T200056
CREATED:20231207T225149Z
LAST-MODIFIED:20231207T225153Z
UID:50218-1702052100-1702054800@northparkmainstreet.com
SUMMARY:Rally for Vision Zero
DESCRIPTION:Join Bike SD and Families for Safe Streets this Friday to rally for safe streets in San Diego! \nIn 2015\, the City of San Diego pledged to have “Zero Traffic Related Fatalities and Severe Injuries by 2025”. \nIt is now December 2023\, and with a year left to hit this ambitious milestone\, the City of San Diego has actually seen a 27% INCREASE in traffic fatalities since 2015. \nIn 2022 alone\, 122 people were killed at the hands of traffic violence. In the first quarter of this year\, we’ve seen 15 traffic-related deaths in San Diego. In just the last year\, there have been over six hit-and-runs. \nWe are long overdue for change – we must not accept these deaths as a mere byproduct of auto-centric convenience. Other cities have made strides in saving their citizens’ lives – San Diego must do the same.
URL:https://northparkmainstreet.com/event/rally-for-vision-zero/
LOCATION:Corner of Polk Ave. & Idaho St.\, 4100 Idaho St\, San Diego\, CA\, 92104
CATEGORIES:Community Events
ATTACH;FMTTYPE=image/jpeg:https://northparkmainstreet.com/wp-content/uploads/2023/12/8AA0EBE8-EC81-4272-B5F1-546B88EF2CCE-1.jpg
END:VEVENT
END:VCALENDAR