BEGIN:VCALENDAR
VERSION:2.0
PRODID:-//North Park Main Street - ECPv6.15.20//NONSGML v1.0//EN
CALSCALE:GREGORIAN
METHOD:PUBLISH
X-WR-CALNAME:North Park Main Street
X-ORIGINAL-URL:https://northparkmainstreet.com
X-WR-CALDESC:Events for North Park Main Street
REFRESH-INTERVAL;VALUE=DURATION:PT1H
X-Robots-Tag:noindex
X-PUBLISHED-TTL:PT1H
BEGIN:VTIMEZONE
TZID:America/Los_Angeles
BEGIN:DAYLIGHT
TZOFFSETFROM:-0800
TZOFFSETTO:-0700
TZNAME:PDT
DTSTART:20220313T100000
END:DAYLIGHT
BEGIN:STANDARD
TZOFFSETFROM:-0700
TZOFFSETTO:-0800
TZNAME:PST
DTSTART:20221106T090000
END:STANDARD
BEGIN:DAYLIGHT
TZOFFSETFROM:-0800
TZOFFSETTO:-0700
TZNAME:PDT
DTSTART:20230312T100000
END:DAYLIGHT
BEGIN:STANDARD
TZOFFSETFROM:-0700
TZOFFSETTO:-0800
TZNAME:PST
DTSTART:20231105T090000
END:STANDARD
BEGIN:DAYLIGHT
TZOFFSETFROM:-0800
TZOFFSETTO:-0700
TZNAME:PDT
DTSTART:20240310T100000
END:DAYLIGHT
BEGIN:STANDARD
TZOFFSETFROM:-0700
TZOFFSETTO:-0800
TZNAME:PST
DTSTART:20241103T090000
END:STANDARD
END:VTIMEZONE
BEGIN:VEVENT
DTSTART;VALUE=DATE:20231124
DTEND;VALUE=DATE:20240101
DTSTAMP:20260419T181410
CREATED:20231121T184902Z
LAST-MODIFIED:20231121T184902Z
UID:50074-1700784000-1704067199@northparkmainstreet.com
SUMMARY:Holiday Garden Market & Craft Works Holiday Show
DESCRIPTION:Craft Works Holiday Shop\nNovember 24 to December 31 2023 \nEach year\, the Art Produce Gallery turns into a holiday shop featuring ceramics\, soaps\, candles\, jewelry\, textiles\, and more from our local community of artists. \nShop Hours:\nThursdays & Fridays 2-6pm\nSaturdays & Sundays 12-6pm
URL:https://northparkmainstreet.com/event/holiday-garden-market-craft-works-holiday-show/
LOCATION:Art Produce\, 3139 University Avenue\, San Diego\, CA\, 92104
CATEGORIES:Community Events
ATTACH;FMTTYPE=image/jpeg:https://northparkmainstreet.com/wp-content/uploads/2023/11/Art-Produce-Event-Flyer.jpg
END:VEVENT
BEGIN:VEVENT
DTSTART;TZID=America/Los_Angeles:20231125T090000
DTEND;TZID=America/Los_Angeles:20231125T110000
DTSTAMP:20260419T181410
CREATED:20231108T005930Z
LAST-MODIFIED:20231108T005930Z
UID:49859-1700902800-1700910000@northparkmainstreet.com
SUMMARY:Post-Turkey Trot 5k
DESCRIPTION:Join Coach B & the team as the run of that turkey with a little 5k trot! Runners\, joggers\, and walkers are all welcome to participate in the fun. \nRegistration opens at 930 am \nThe run will start at 10 am \nPost Beer or Donuts to be provided! \nMore details to be posted\, contact Coach B for any questions: brandon@coachbsd.com
URL:https://northparkmainstreet.com/event/post-turkey-trot-5k/
LOCATION:CA
CATEGORIES:Community Events
ATTACH;FMTTYPE=image/png:https://northparkmainstreet.com/wp-content/uploads/2023/11/Turkey-Trot-Graphic.png
END:VEVENT
BEGIN:VEVENT
DTSTART;TZID=America/Los_Angeles:20231125T110000
DTEND;TZID=America/Los_Angeles:20231125T170000
DTSTAMP:20260419T181410
CREATED:20231023T220115Z
LAST-MODIFIED:20231116T165232Z
UID:49736-1700910000-1700931600@northparkmainstreet.com
SUMMARY:Shop Local 2023
DESCRIPTION:November 25th at 11 AM\nKickoff Shop Local with Mayor Gloria & North Park Main Street! Meet us at MILA (2879 University Ave) at 11 a.m. to hear from the Mayor & get your holiday shopping done locally! \nIf you spend $75 at a local North Park business\, you can stop by our booth outside MILA to claim a free tote bag with a small gift inside! Limited to first 100 people\, must show proof of purchase from North Park business.
URL:https://northparkmainstreet.com/event/shop-local-2023/
LOCATION:MILA\, 2879 University Ave\, San Diego\, 92104\, United States
CATEGORIES:Community Events,NPMS
ATTACH;FMTTYPE=image/png:https://northparkmainstreet.com/wp-content/uploads/2020/11/ShopLocal_Color_1-01.png
END:VEVENT
BEGIN:VEVENT
DTSTART;TZID=America/Los_Angeles:20231125T111500
DTEND;TZID=America/Los_Angeles:20231125T114500
DTSTAMP:20260419T181410
CREATED:20231113T203709Z
LAST-MODIFIED:20231113T203723Z
UID:49921-1700910900-1700912700@northparkmainstreet.com
SUMMARY:Ribbon Cutting - Pinky's Cafe
DESCRIPTION:We would like to extend an invitation to Pinky’s Cafe ribbon-cutting event.  We hope you can join us for this special occasion. Mayor Gloria will be presenting certificate. RSVP on our website.
URL:https://northparkmainstreet.com/event/ribbon-cutting-pinkys-cafe/
LOCATION:CA
CATEGORIES:Community Events
ATTACH;FMTTYPE=image/png:https://northparkmainstreet.com/wp-content/uploads/2023/11/Ribbon-Cuttings-1.png
END:VEVENT
END:VCALENDAR