BEGIN:VCALENDAR
VERSION:2.0
PRODID:-//North Park Main Street - ECPv6.15.20//NONSGML v1.0//EN
CALSCALE:GREGORIAN
METHOD:PUBLISH
X-ORIGINAL-URL:https://northparkmainstreet.com
X-WR-CALDESC:Events for North Park Main Street
REFRESH-INTERVAL;VALUE=DURATION:PT1H
X-Robots-Tag:noindex
X-PUBLISHED-TTL:PT1H
BEGIN:VTIMEZONE
TZID:America/Los_Angeles
BEGIN:DAYLIGHT
TZOFFSETFROM:-0800
TZOFFSETTO:-0700
TZNAME:PDT
DTSTART:20220313T100000
END:DAYLIGHT
BEGIN:STANDARD
TZOFFSETFROM:-0700
TZOFFSETTO:-0800
TZNAME:PST
DTSTART:20221106T090000
END:STANDARD
BEGIN:DAYLIGHT
TZOFFSETFROM:-0800
TZOFFSETTO:-0700
TZNAME:PDT
DTSTART:20230312T100000
END:DAYLIGHT
BEGIN:STANDARD
TZOFFSETFROM:-0700
TZOFFSETTO:-0800
TZNAME:PST
DTSTART:20231105T090000
END:STANDARD
BEGIN:DAYLIGHT
TZOFFSETFROM:-0800
TZOFFSETTO:-0700
TZNAME:PDT
DTSTART:20240310T100000
END:DAYLIGHT
BEGIN:STANDARD
TZOFFSETFROM:-0700
TZOFFSETTO:-0800
TZNAME:PST
DTSTART:20241103T090000
END:STANDARD
BEGIN:DAYLIGHT
TZOFFSETFROM:-0800
TZOFFSETTO:-0700
TZNAME:PDT
DTSTART:20250309T100000
END:DAYLIGHT
BEGIN:STANDARD
TZOFFSETFROM:-0700
TZOFFSETTO:-0800
TZNAME:PST
DTSTART:20251102T090000
END:STANDARD
END:VTIMEZONE
BEGIN:VEVENT
DTSTART;TZID=America/Los_Angeles:20230615T150000
DTEND;TZID=America/Los_Angeles:20230615T193000
DTSTAMP:20260420T002226
CREATED:20230614T174127Z
LAST-MODIFIED:20241125T231314Z
UID:48817-1686841200-1686857400@northparkmainstreet.com
SUMMARY:North Park Farmers' Market
DESCRIPTION:
URL:https://northparkmainstreet.com/event/north-park-farmers-market/
LOCATION:North Park Mini Park\, 3812 29th St\, San Diego\, CA\, 92104\, United States
CATEGORIES:Community Events,NPMS
ATTACH;FMTTYPE=image/png:https://northparkmainstreet.com/wp-content/uploads/2023/06/2018_FarmersMarket_4x4.png
END:VEVENT
BEGIN:VEVENT
DTSTART;TZID=America/Los_Angeles:20240411T110000
DTEND;TZID=America/Los_Angeles:20240411T130000
DTSTAMP:20260420T002226
CREATED:20240325T163913Z
LAST-MODIFIED:20240325T163913Z
UID:51049-1712833200-1712840400@northparkmainstreet.com
SUMMARY:AARP 25th Anniversary Celebration!
DESCRIPTION:Join AARP for their 25th Anniversary Celebration! \n? Date: Thursday\, April 11 \n? Time: 11am-1pm \n?Location: 4075 30th St\, San Diego\, CA 92104 \nTheir celebration will be a vibrant gathering featuring music\, tacos\, beverages\, giveaways\, and a mystery door prize! It’s also an opportunity to celebrate community! \nFor any questions or to RSVP email SanDiegolnfoCenter@aarp.org
URL:https://northparkmainstreet.com/event/aarp-25th-anniversary-celebration/
LOCATION:AARP Information Center\, 4075 30th St\, San Diego\, CA\, 92104\, United States
CATEGORIES:Community Events
ATTACH;FMTTYPE=image/jpeg:https://northparkmainstreet.com/wp-content/uploads/2024/03/IMG_8071.jpg
END:VEVENT
BEGIN:VEVENT
DTSTART;TZID=America/Los_Angeles:20230615T150000
DTEND;TZID=America/Los_Angeles:20230615T193000
DTSTAMP:20260420T002226
CREATED:20230614T174127Z
LAST-MODIFIED:20241125T231314Z
UID:48817-1686841200-1686857400@northparkmainstreet.com
SUMMARY:North Park Farmers' Market
DESCRIPTION:
URL:https://northparkmainstreet.com/event/north-park-farmers-market/
LOCATION:North Park Mini Park\, 3812 29th St\, San Diego\, CA\, 92104\, United States
CATEGORIES:Community Events,NPMS
ATTACH;FMTTYPE=image/png:https://northparkmainstreet.com/wp-content/uploads/2023/06/2018_FarmersMarket_4x4.png
END:VEVENT
BEGIN:VEVENT
DTSTART;TZID=America/Los_Angeles:20240413T120000
DTEND;TZID=America/Los_Angeles:20240413T160000
DTSTAMP:20260420T002226
CREATED:20240404T225503Z
LAST-MODIFIED:20240404T225503Z
UID:51148-1713009600-1713024000@northparkmainstreet.com
SUMMARY:San Diego Super Adoption
DESCRIPTION:Join A Way Home For Dogs and other local rescues and shelters at the North Park Mini Park to meet dozens of adoptable dogs\, cats\, puppies and kittens. Connect with local organizations that are making a difference and learn about volunteer opportunities\, fostering and other ways to help homeless animals in San Diego. \nThis event will be held at the North Park Vegan Food Popup\, San Diego’s biggest outdoor vegan market featuring over 60 vendors. Enjoy eats and treats from an international food court and shop a selection of products and services from local businesses. \nPARTICIPATING GROUPS:\nA Way Home For Dogs\nALMA Dog Rescue\nAnimal Rescuers Without Borders\nCounty of San Diego Animal Services (Bonita)\nFrosted Faces Foundation\nPAWS of Coronado\nSPOT\nThe Animal Pad\nThrive Animal Rescue\nToday\, Tomorrow & Forever Animal Rescue \nPARKING:\nThere is a 6-story parking garage on 29th St and North Park Way. Additionally\, there is free street parking nearby. \nEVENT WEBSITE: https://www.eventbrite.com/e/san-diego-super-adoption-tickets-848159025477 
URL:https://northparkmainstreet.com/event/san-diego-super-adoption/
LOCATION:North Park Mini Park\, 3812 29th St\, San Diego\, CA\, 92104\, United States
CATEGORIES:Community Events,NPMS
ATTACH;FMTTYPE=image/jpeg:https://northparkmainstreet.com/wp-content/uploads/2024/04/Adoption-Event.jpg
ORGANIZER;CN="Vegan Food Popup":MAILTO:info@veganfoodpopup.com
END:VEVENT
BEGIN:VEVENT
DTSTART;TZID=America/Los_Angeles:20231017T183000
DTEND;TZID=America/Los_Angeles:20231017T183000
DTSTAMP:20260420T002226
CREATED:20231006T144917Z
LAST-MODIFIED:20231006T152522Z
UID:49576-1697567400-1697567400@northparkmainstreet.com
SUMMARY:North Park Planning Committee Monthly Meeting
DESCRIPTION:The North Park Planning Committee (NPPC) represents the citizens of North Park by providing a forum to discuss\, explore\, question and monitor land use and development issues. \nWe provide advisory recommendations to the City regarding projects in the community and are recognized by the City as an important part of the approval process for new development and services. The more participants\, the more influence we have on the future of North Park: how it will look and what it will include. \nSee our Meetings page for the Agenda and Minutes
URL:https://northparkmainstreet.com/event/north-park-planning-committee-monthly-meeting/
LOCATION:Horizon North Park\, 2901 North Park Way\, 2nd Floor\, San Diego\, 92104
CATEGORIES:Community Events
ATTACH;FMTTYPE=image/jpeg:https://northparkmainstreet.com/wp-content/uploads/2023/10/NPPC-Logo.jpg
ORGANIZER;CN="North Park Planing Committee":MAILTO:info@northparkplanning.org
END:VEVENT
BEGIN:VEVENT
DTSTART;TZID=America/Los_Angeles:20230615T150000
DTEND;TZID=America/Los_Angeles:20230615T193000
DTSTAMP:20260420T002226
CREATED:20230614T174127Z
LAST-MODIFIED:20241125T231314Z
UID:48817-1686841200-1686857400@northparkmainstreet.com
SUMMARY:North Park Farmers' Market
DESCRIPTION:
URL:https://northparkmainstreet.com/event/north-park-farmers-market/
LOCATION:North Park Mini Park\, 3812 29th St\, San Diego\, CA\, 92104\, United States
CATEGORIES:Community Events,NPMS
ATTACH;FMTTYPE=image/png:https://northparkmainstreet.com/wp-content/uploads/2023/06/2018_FarmersMarket_4x4.png
END:VEVENT
BEGIN:VEVENT
DTSTART;TZID=America/Los_Angeles:20240217T110000
DTEND;TZID=America/Los_Angeles:20240217T170000
DTSTAMP:20260420T002226
CREATED:20240216T235752Z
LAST-MODIFIED:20240216T235845Z
UID:50776-1708167600-1708189200@northparkmainstreet.com
SUMMARY:Vintage Market
DESCRIPTION:Market Event Happens Every 3rd Saturday of Each Month\n\nShop our favorite pieces at the market. Make it your favorite too! ?⁣⁣⁣\n⁣⁣⁣\nOur shop is also fully restocked with a bunch of great new pieces.\n⁣⁣⁣\nMake sure to stop by the market and shop for first dibs on tons of incredible vintage goods – clothing\, accessories\, jewelry\, furniture\, antiques\, food\, and more! ? \nUpcoming Day-to-Day Vintage Market Events \n\nJanuary 20th\, 2024\nFebruary 17th\, 2024\nMarch 16th\, 2024\nApril 20th\, 2024\nMay 18th\, 2024\nJune 15th\, 2024\nJuly 20th\, 2024\nAugust 17th\, 2024\nSeptember 21st\, 2024\nOctober 19\, 2024\nNovember 16th\, 2024\nDecember 21st\, 2024\n\nMarket Event is located at 3812 29th St\, San Diego\, CA 92104
URL:https://northparkmainstreet.com/event/vintage-market/
LOCATION:North Park Mini Park\, 3812 29th St\, San Diego\, CA\, 92104\, United States
CATEGORIES:Community Events,Special Events
ATTACH;FMTTYPE=image/jpeg:https://northparkmainstreet.com/wp-content/uploads/2024/02/Day2DayCalendar.jpeg
END:VEVENT
BEGIN:VEVENT
DTSTART;TZID=America/Los_Angeles:20240421T093000
DTEND;TZID=America/Los_Angeles:20240421T120000
DTSTAMP:20260420T002226
CREATED:20240402T161740Z
LAST-MODIFIED:20240402T161740Z
UID:51101-1713691800-1713700800@northparkmainstreet.com
SUMMARY:Community Cleanup
DESCRIPTION:Join us on April 21 as we clean up North Park in honor of Earth Day! \nPlease RSVP below so we can plan out equipment and food + drink needs. \nThe clean up will kick off at 930 am on 619 Spirits patio. Once volunteers are done beautifying our community\, they can return their equipment at 619 Spirits and grab a refreshing drink and small bites courtesy of North Park Main Street. \nIf you have any questions\, please contact our Community Engagement Coordinator\, Sandra\, at sandra@northparkmainstreet.com \n 
URL:https://northparkmainstreet.com/event/community-cleanup/
LOCATION:619 Spirits\, 3015 Lincoln Ave\, San Diego\, CA\, 92104
CATEGORIES:Community Events,NPMS
ATTACH;FMTTYPE=image/png:https://northparkmainstreet.com/wp-content/uploads/2024/04/Community-Clean-Up-421.png
END:VEVENT
BEGIN:VEVENT
DTSTART;TZID=America/Los_Angeles:20230615T150000
DTEND;TZID=America/Los_Angeles:20230615T193000
DTSTAMP:20260420T002226
CREATED:20230614T174127Z
LAST-MODIFIED:20241125T231314Z
UID:48817-1686841200-1686857400@northparkmainstreet.com
SUMMARY:North Park Farmers' Market
DESCRIPTION:
URL:https://northparkmainstreet.com/event/north-park-farmers-market/
LOCATION:North Park Mini Park\, 3812 29th St\, San Diego\, CA\, 92104\, United States
CATEGORIES:Community Events,NPMS
ATTACH;FMTTYPE=image/png:https://northparkmainstreet.com/wp-content/uploads/2023/06/2018_FarmersMarket_4x4.png
END:VEVENT
BEGIN:VEVENT
DTSTART;TZID=America/Los_Angeles:20240427T160000
DTEND;TZID=America/Los_Angeles:20240427T180000
DTSTAMP:20260420T002226
CREATED:20240424T152743Z
LAST-MODIFIED:20240424T152802Z
UID:51331-1714233600-1714240800@northparkmainstreet.com
SUMMARY:AKA 12 Year Celebration
DESCRIPTION:Help us celebrate 12 years in business as we open our production house doors and allow all to see the inner makings of aka. Meet fellow neighbors and local business owners\, experience a live screen print demo\, and discover how we bring our clients’ visions to life through screen printing and more.
URL:https://northparkmainstreet.com/event/aka-12-year-celebration/
LOCATION:AKA\, 3919 Illinois St\,\, San Diego\, CA\, 92104\, United States
CATEGORIES:Community Events
ATTACH;FMTTYPE=image/jpeg:https://northparkmainstreet.com/wp-content/uploads/2024/04/17x11-aka-scaled.jpg
END:VEVENT
END:VCALENDAR