BEGIN:VCALENDAR
VERSION:2.0
PRODID:-//North Park Main Street - ECPv6.15.20//NONSGML v1.0//EN
CALSCALE:GREGORIAN
METHOD:PUBLISH
X-WR-CALNAME:North Park Main Street
X-ORIGINAL-URL:https://northparkmainstreet.com
X-WR-CALDESC:Events for North Park Main Street
REFRESH-INTERVAL;VALUE=DURATION:PT1H
X-Robots-Tag:noindex
X-PUBLISHED-TTL:PT1H
BEGIN:VTIMEZONE
TZID:America/Los_Angeles
BEGIN:DAYLIGHT
TZOFFSETFROM:-0800
TZOFFSETTO:-0700
TZNAME:PDT
DTSTART:20240310T100000
END:DAYLIGHT
BEGIN:STANDARD
TZOFFSETFROM:-0700
TZOFFSETTO:-0800
TZNAME:PST
DTSTART:20241103T090000
END:STANDARD
BEGIN:DAYLIGHT
TZOFFSETFROM:-0800
TZOFFSETTO:-0700
TZNAME:PDT
DTSTART:20250309T100000
END:DAYLIGHT
BEGIN:STANDARD
TZOFFSETFROM:-0700
TZOFFSETTO:-0800
TZNAME:PST
DTSTART:20251102T090000
END:STANDARD
BEGIN:DAYLIGHT
TZOFFSETFROM:-0800
TZOFFSETTO:-0700
TZNAME:PDT
DTSTART:20260308T100000
END:DAYLIGHT
BEGIN:STANDARD
TZOFFSETFROM:-0700
TZOFFSETTO:-0800
TZNAME:PST
DTSTART:20261101T090000
END:STANDARD
END:VTIMEZONE
BEGIN:VEVENT
DTSTART;TZID=America/Los_Angeles:20250427T110000
DTEND;TZID=America/Los_Angeles:20250427T113000
DTSTAMP:20260421T070322
CREATED:20250416T163517Z
LAST-MODIFIED:20250426T052846Z
UID:53315-1745751600-1745753400@northparkmainstreet.com
SUMMARY:Twinkle Nails & Spa- Ribbon Cutting
DESCRIPTION:Twinkle Nails & Spa invites the North Park community to celebrate the grand opening of its second location on Sunday\, April 27th. The event will feature delicious food\, floral arrangements from David’s Daughter\, and an official ribbon-cutting ceremony to commemorate the occasion. \nEvent Details: \n\nRibbon Cutting Ceremony: 11:00 AM\nAnniversary Celebration: 10:00 AM – 12:00 PM\n\nAbout Us – The Heart Behind Twinkle Nails & Spa \nTwinkle Nails & Spa was founded by Brian\, a former chef who boldly changed careers to pursue a new path in the nail industry. With no prior experience\, he rebuilt his confidence from the ground up\, facing challenges with resilience\, kindness\, and a commitment to excellence. \nAs a man in a traditionally female-led field\, Brian poured his heart into mastering the craft and creating a space where clients feel seen\, remembered\, and cared for. His passion transformed Twinkle Nails & Spa into more than a salon — it became a community. \nIn just one year\, they’ve earned 5-star reviews on Google and Yelp and were honored as San Diego’s Best Nail Salon in 2024. Thanks to the love and support of their amazing clients\, they’re proud to open their second location in North Park. \nTwinkle Nails & Spa is Brian’s journey of reinvention — a story of second chances\, renewed purpose\, and community.
URL:https://northparkmainstreet.com/event/twinkle-nails-ribbon-cutting/
LOCATION:3104 University Ave\, San Diego\, CA 92104\, 3104 University Ave\, San Diego\, CA\, 92101\, United States
CATEGORIES:Community Events
ATTACH;FMTTYPE=image/png:https://northparkmainstreet.com/wp-content/uploads/2025/04/Copy-of-Ribbon-Cuttings-Template.png
END:VEVENT
END:VCALENDAR