BEGIN:VCALENDAR
VERSION:2.0
PRODID:-//North Park Main Street - ECPv6.15.20//NONSGML v1.0//EN
CALSCALE:GREGORIAN
METHOD:PUBLISH
X-ORIGINAL-URL:https://northparkmainstreet.com
X-WR-CALDESC:Events for North Park Main Street
REFRESH-INTERVAL;VALUE=DURATION:PT1H
X-Robots-Tag:noindex
X-PUBLISHED-TTL:PT1H
BEGIN:VTIMEZONE
TZID:America/Los_Angeles
BEGIN:DAYLIGHT
TZOFFSETFROM:-0800
TZOFFSETTO:-0700
TZNAME:PDT
DTSTART:20220313T100000
END:DAYLIGHT
BEGIN:STANDARD
TZOFFSETFROM:-0700
TZOFFSETTO:-0800
TZNAME:PST
DTSTART:20221106T090000
END:STANDARD
BEGIN:DAYLIGHT
TZOFFSETFROM:-0800
TZOFFSETTO:-0700
TZNAME:PDT
DTSTART:20230312T100000
END:DAYLIGHT
BEGIN:STANDARD
TZOFFSETFROM:-0700
TZOFFSETTO:-0800
TZNAME:PST
DTSTART:20231105T090000
END:STANDARD
BEGIN:DAYLIGHT
TZOFFSETFROM:-0800
TZOFFSETTO:-0700
TZNAME:PDT
DTSTART:20240310T100000
END:DAYLIGHT
BEGIN:STANDARD
TZOFFSETFROM:-0700
TZOFFSETTO:-0800
TZNAME:PST
DTSTART:20241103T090000
END:STANDARD
BEGIN:DAYLIGHT
TZOFFSETFROM:-0800
TZOFFSETTO:-0700
TZNAME:PDT
DTSTART:20250309T100000
END:DAYLIGHT
BEGIN:STANDARD
TZOFFSETFROM:-0700
TZOFFSETTO:-0800
TZNAME:PST
DTSTART:20251102T090000
END:STANDARD
BEGIN:DAYLIGHT
TZOFFSETFROM:-0800
TZOFFSETTO:-0700
TZNAME:PDT
DTSTART:20260308T100000
END:DAYLIGHT
BEGIN:STANDARD
TZOFFSETFROM:-0700
TZOFFSETTO:-0800
TZNAME:PST
DTSTART:20261101T090000
END:STANDARD
END:VTIMEZONE
BEGIN:VEVENT
DTSTART;VALUE=DATE:20250424
DTEND;VALUE=DATE:20250425
DTSTAMP:20260421T070546
CREATED:20250312T162229Z
LAST-MODIFIED:20250312T162449Z
UID:53220-1745452800-1745539199@northparkmainstreet.com
SUMMARY:Dining Out For Life San Diego
DESCRIPTION:Calling all North Park restaurants! Become a Dining Out For Life 2025 participating location NOW! \nThe San Diego LGBT Community Center open enrollment is now live for new and returning locations for this year’s 19th annual Dining Out For Life San Diego. Last day to register your business is April 1st. \nDozens of restaurants\, bars\, coffee houses\, dessert shops\, and nightclubs in San Diego will pledge to donate a minimum of 25% of their sales on April 24th 2025 to The San Diego LGBT Center’s health & wellness programs- encouraging over 20\,000 patrons to dine out in a meaningful act of giving\, and show solidarity and support for the community. Find more information and sign-up today for this amazing fundraiser at \nRestaurants & Bars: Sign up today!\nRegister: thecentersd.org/DOFL \nContact Jen Haase at 619.692.2077 ext. 142 or events@thecentersd.org
URL:https://northparkmainstreet.com/event/dining-out-for-life-san-diego/
CATEGORIES:Business,Community Events
ATTACH;FMTTYPE=image/png:https://northparkmainstreet.com/wp-content/uploads/2025/03/Sign-Up-Restaurant-DOFL2025-NP.png
END:VEVENT
BEGIN:VEVENT
DTSTART;TZID=America/Los_Angeles:20230615T150000
DTEND;TZID=America/Los_Angeles:20230615T193000
DTSTAMP:20260421T070546
CREATED:20230614T174127Z
LAST-MODIFIED:20241125T231314Z
UID:48817-1686841200-1686857400@northparkmainstreet.com
SUMMARY:North Park Farmers' Market
DESCRIPTION:
URL:https://northparkmainstreet.com/event/north-park-farmers-market/
LOCATION:North Park Mini Park\, 3812 29th St\, San Diego\, CA\, 92104\, United States
CATEGORIES:Community Events,NPMS
ATTACH;FMTTYPE=image/png:https://northparkmainstreet.com/wp-content/uploads/2023/06/2018_FarmersMarket_4x4.png
END:VEVENT
END:VCALENDAR