BEGIN:VCALENDAR
VERSION:2.0
PRODID:-//North Park Main Street - ECPv6.15.20//NONSGML v1.0//EN
CALSCALE:GREGORIAN
METHOD:PUBLISH
X-ORIGINAL-URL:https://northparkmainstreet.com
X-WR-CALDESC:Events for North Park Main Street
REFRESH-INTERVAL;VALUE=DURATION:PT1H
X-Robots-Tag:noindex
X-PUBLISHED-TTL:PT1H
BEGIN:VTIMEZONE
TZID:America/Los_Angeles
BEGIN:DAYLIGHT
TZOFFSETFROM:-0800
TZOFFSETTO:-0700
TZNAME:PDT
DTSTART:20240310T100000
END:DAYLIGHT
BEGIN:STANDARD
TZOFFSETFROM:-0700
TZOFFSETTO:-0800
TZNAME:PST
DTSTART:20241103T090000
END:STANDARD
BEGIN:DAYLIGHT
TZOFFSETFROM:-0800
TZOFFSETTO:-0700
TZNAME:PDT
DTSTART:20250309T100000
END:DAYLIGHT
BEGIN:STANDARD
TZOFFSETFROM:-0700
TZOFFSETTO:-0800
TZNAME:PST
DTSTART:20251102T090000
END:STANDARD
BEGIN:DAYLIGHT
TZOFFSETFROM:-0800
TZOFFSETTO:-0700
TZNAME:PDT
DTSTART:20260308T100000
END:DAYLIGHT
BEGIN:STANDARD
TZOFFSETFROM:-0700
TZOFFSETTO:-0800
TZNAME:PST
DTSTART:20261101T090000
END:STANDARD
END:VTIMEZONE
BEGIN:VEVENT
DTSTART;VALUE=DATE:20250214
DTEND;VALUE=DATE:20250224
DTSTAMP:20260421T094230
CREATED:20250206T181202Z
LAST-MODIFIED:20250213T160514Z
UID:52975-1739491200-1740355199@northparkmainstreet.com
SUMMARY:Cookies on Tap - Mike Hess
DESCRIPTION:Join the delicious and fun experience at Mike Hess! \nFrom February 14th – February 23rd\, they will be offering craft beer flights paired with Girl Scout Cookies\, with a portion of proceeds benefiting Girl Scouts San Diego. \nThis year’s delectable pairings! \n\nCaramel deLites® aka Samoas® with Vietnamese Coffee Stout\nLemonades® with Raspberry Hop Cloud Hazy IPA\nToast-Yay!® with J$ Brown Ale\nPeanut Butter Sandwich aka Do-si-dos® with Sangria Seltzer\nAdventurefuls@with Slam Dunkel\n\nTHIS EVENT IS FOR A LIMITED TIME ONLY:\nAll San Diego Mike Hess Brewing locations \nA portion of sales of our beer and cookie pairing will benefit Girl Scouts of San Diego
URL:https://northparkmainstreet.com/event/cookies-on-tap-mike-hess/
LOCATION:Mike Hess Brewery – North Park\, 3812 Grim Ave\, San Diego\, CA\, 92104\, United States
CATEGORIES:Community Events
ATTACH;FMTTYPE=image/jpeg:https://northparkmainstreet.com/wp-content/uploads/2025/02/thumbnail_Girl-Scouts-25-toast-vertical.jpg
END:VEVENT
BEGIN:VEVENT
DTSTART;TZID=America/Los_Angeles:20250126T100000
DTEND;TZID=America/Los_Angeles:20250126T110000
DTSTAMP:20260421T094230
CREATED:20250121T173725Z
LAST-MODIFIED:20250121T233409Z
UID:52833-1737885600-1737889200@northparkmainstreet.com
SUMMARY:Community Yoga at the Mini Park
DESCRIPTION:Get ready to sweat\, stretch\, and recharge with us at North Park Mini Park! Feel the burn with a powerful Pilates session one month\, then find your flow with a relaxing yoga practice the next. All levels welcome—come for the movement\, stay for the good vibes and community connection. \nUpcoming Sessions: \n• Jan 26 – Yoga \n• Feb 23 – Pilates \n• Mar 23 – Yoga \nWhat to Bring: \n• A yoga mat \n• Water \n• A positive attitude \nSuggested Donation: $15–$20 helps keep these classes free and accessible. (Venmo: @DominiqueChapman) \n📍 North Park Mini Park \n3812 29th St\, San Diego\, CA 92104 \nDon’t miss your chance to flow\, burn\, and connect. Come early to grab your spot—your Sunday reset starts here! \nUse the link down below to RSVP \nhttps://cravecommunity.setmore.com/classes/07e2dd5c-11de-440d-bb12-c06e9d359f3f
URL:https://northparkmainstreet.com/event/community-yoga-at-the-mini-park/
LOCATION:North Park Mini Park\, 3812 29th St\, San Diego\, CA\, 92104\, United States
CATEGORIES:Community Events
ATTACH;FMTTYPE=image/jpeg:https://northparkmainstreet.com/wp-content/uploads/2025/01/thumbnail_IMG_0894.jpg
END:VEVENT
BEGIN:VEVENT
DTSTART;TZID=America/Los_Angeles:20250223T130000
DTEND;TZID=America/Los_Angeles:20250223T170000
DTSTAMP:20260421T094230
CREATED:20250219T164434Z
LAST-MODIFIED:20250219T164752Z
UID:53050-1740315600-1740330000@northparkmainstreet.com
SUMMARY:Enriquez Birrieria - Ribbon Cutting
DESCRIPTION:Enriquez Birrieria invites all residents to join the celebration of its first anniversary. This event will take place on Sunday\, February 23\, 2025\, and will feature delicious food and a ribbon-cutting ceremony. \nEvent Details: \n\nRibbon Cutting Ceremony: 1:00 PM\nAnniversary Celebration: 1:00 PM – 5:00 PM\n\nTo thank the community for an incredible year\, guests will receive a complimentary battered fish taco and their choice of Horchata or Jamaica. \nEveryone is welcome to take part in the festivities and enjoy a day of fun\, food\, and celebration.
URL:https://northparkmainstreet.com/event/enriquez-birrieria-ribbon-cutting/
LOCATION:Enriquez Birrieria\, 2041 University Ave\,\, San Diego\, CA\, 92104\, United States
CATEGORIES:Community Events
ATTACH;FMTTYPE=image/png:https://northparkmainstreet.com/wp-content/uploads/2025/02/Enriquez-Birrieria-1.png
END:VEVENT
END:VCALENDAR