BEGIN:VCALENDAR
VERSION:2.0
PRODID:-//North Park Main Street - ECPv6.15.20//NONSGML v1.0//EN
CALSCALE:GREGORIAN
METHOD:PUBLISH
X-ORIGINAL-URL:https://northparkmainstreet.com
X-WR-CALDESC:Events for North Park Main Street
REFRESH-INTERVAL;VALUE=DURATION:PT1H
X-Robots-Tag:noindex
X-PUBLISHED-TTL:PT1H
BEGIN:VTIMEZONE
TZID:America/Los_Angeles
BEGIN:DAYLIGHT
TZOFFSETFROM:-0800
TZOFFSETTO:-0700
TZNAME:PDT
DTSTART:20220313T100000
END:DAYLIGHT
BEGIN:STANDARD
TZOFFSETFROM:-0700
TZOFFSETTO:-0800
TZNAME:PST
DTSTART:20221106T090000
END:STANDARD
BEGIN:DAYLIGHT
TZOFFSETFROM:-0800
TZOFFSETTO:-0700
TZNAME:PDT
DTSTART:20230312T100000
END:DAYLIGHT
BEGIN:STANDARD
TZOFFSETFROM:-0700
TZOFFSETTO:-0800
TZNAME:PST
DTSTART:20231105T090000
END:STANDARD
BEGIN:DAYLIGHT
TZOFFSETFROM:-0800
TZOFFSETTO:-0700
TZNAME:PDT
DTSTART:20240310T100000
END:DAYLIGHT
BEGIN:STANDARD
TZOFFSETFROM:-0700
TZOFFSETTO:-0800
TZNAME:PST
DTSTART:20241103T090000
END:STANDARD
BEGIN:DAYLIGHT
TZOFFSETFROM:-0800
TZOFFSETTO:-0700
TZNAME:PDT
DTSTART:20250309T100000
END:DAYLIGHT
BEGIN:STANDARD
TZOFFSETFROM:-0700
TZOFFSETTO:-0800
TZNAME:PST
DTSTART:20251102T090000
END:STANDARD
BEGIN:DAYLIGHT
TZOFFSETFROM:-0800
TZOFFSETTO:-0700
TZNAME:PDT
DTSTART:20260308T100000
END:DAYLIGHT
BEGIN:STANDARD
TZOFFSETFROM:-0700
TZOFFSETTO:-0800
TZNAME:PST
DTSTART:20261101T090000
END:STANDARD
END:VTIMEZONE
BEGIN:VEVENT
DTSTART;VALUE=DATE:20250214
DTEND;VALUE=DATE:20250224
DTSTAMP:20260421T094228
CREATED:20250206T181202Z
LAST-MODIFIED:20250213T160514Z
UID:52975-1739491200-1740355199@northparkmainstreet.com
SUMMARY:Cookies on Tap - Mike Hess
DESCRIPTION:Join the delicious and fun experience at Mike Hess! \nFrom February 14th – February 23rd\, they will be offering craft beer flights paired with Girl Scout Cookies\, with a portion of proceeds benefiting Girl Scouts San Diego. \nThis year’s delectable pairings! \n\nCaramel deLites® aka Samoas® with Vietnamese Coffee Stout\nLemonades® with Raspberry Hop Cloud Hazy IPA\nToast-Yay!® with J$ Brown Ale\nPeanut Butter Sandwich aka Do-si-dos® with Sangria Seltzer\nAdventurefuls@with Slam Dunkel\n\nTHIS EVENT IS FOR A LIMITED TIME ONLY:\nAll San Diego Mike Hess Brewing locations \nA portion of sales of our beer and cookie pairing will benefit Girl Scouts of San Diego
URL:https://northparkmainstreet.com/event/cookies-on-tap-mike-hess/
LOCATION:Mike Hess Brewery – North Park\, 3812 Grim Ave\, San Diego\, CA\, 92104\, United States
CATEGORIES:Community Events
ATTACH;FMTTYPE=image/jpeg:https://northparkmainstreet.com/wp-content/uploads/2025/02/thumbnail_Girl-Scouts-25-toast-vertical.jpg
END:VEVENT
BEGIN:VEVENT
DTSTART;TZID=America/Los_Angeles:20231017T183000
DTEND;TZID=America/Los_Angeles:20231017T183000
DTSTAMP:20260421T094228
CREATED:20231006T144917Z
LAST-MODIFIED:20231006T152522Z
UID:49576-1697567400-1697567400@northparkmainstreet.com
SUMMARY:North Park Planning Committee Monthly Meeting
DESCRIPTION:The North Park Planning Committee (NPPC) represents the citizens of North Park by providing a forum to discuss\, explore\, question and monitor land use and development issues. \nWe provide advisory recommendations to the City regarding projects in the community and are recognized by the City as an important part of the approval process for new development and services. The more participants\, the more influence we have on the future of North Park: how it will look and what it will include. \nSee our Meetings page for the Agenda and Minutes
URL:https://northparkmainstreet.com/event/north-park-planning-committee-monthly-meeting/
LOCATION:Horizon North Park\, 2901 North Park Way\, 2nd Floor\, San Diego\, 92104
CATEGORIES:Community Events
ATTACH;FMTTYPE=image/jpeg:https://northparkmainstreet.com/wp-content/uploads/2023/10/NPPC-Logo.jpg
ORGANIZER;CN="North Park Planing Committee":MAILTO:info@northparkplanning.org
END:VEVENT
END:VCALENDAR