BEGIN:VCALENDAR
VERSION:2.0
PRODID:-//North Park Main Street - ECPv6.15.20//NONSGML v1.0//EN
CALSCALE:GREGORIAN
METHOD:PUBLISH
X-WR-CALNAME:North Park Main Street
X-ORIGINAL-URL:https://northparkmainstreet.com
X-WR-CALDESC:Events for North Park Main Street
REFRESH-INTERVAL;VALUE=DURATION:PT1H
X-Robots-Tag:noindex
X-PUBLISHED-TTL:PT1H
BEGIN:VTIMEZONE
TZID:America/Los_Angeles
BEGIN:DAYLIGHT
TZOFFSETFROM:-0800
TZOFFSETTO:-0700
TZNAME:PDT
DTSTART:20240310T100000
END:DAYLIGHT
BEGIN:STANDARD
TZOFFSETFROM:-0700
TZOFFSETTO:-0800
TZNAME:PST
DTSTART:20241103T090000
END:STANDARD
BEGIN:DAYLIGHT
TZOFFSETFROM:-0800
TZOFFSETTO:-0700
TZNAME:PDT
DTSTART:20250309T100000
END:DAYLIGHT
BEGIN:STANDARD
TZOFFSETFROM:-0700
TZOFFSETTO:-0800
TZNAME:PST
DTSTART:20251102T090000
END:STANDARD
BEGIN:DAYLIGHT
TZOFFSETFROM:-0800
TZOFFSETTO:-0700
TZNAME:PDT
DTSTART:20260308T100000
END:DAYLIGHT
BEGIN:STANDARD
TZOFFSETFROM:-0700
TZOFFSETTO:-0800
TZNAME:PST
DTSTART:20261101T090000
END:STANDARD
END:VTIMEZONE
BEGIN:VEVENT
DTSTART;TZID=America/Los_Angeles:20250212T100000
DTEND;TZID=America/Los_Angeles:20250212T110000
DTSTAMP:20260421T094008
CREATED:20250205T171255Z
LAST-MODIFIED:20250205T171255Z
UID:52947-1739354400-1739358000@northparkmainstreet.com
SUMMARY:Coffee Chat with Mayor Aguirre
DESCRIPTION:We’re thrilled to host our first Coffee Chat of the year featuring Mayor Aguirre from Imperial Beach! \n\n\n \n\n\nDate: February 12th\n\n\nTime: 10 AM\n\n\nLocation: 2948 University Ave Floor 2\n\n\n \n\n\nThese Coffee Chats are designed to encourage meaningful conversations between community members and the leaders serving San Diego County. They also provide elected officials with a valuable opportunity to build stronger connections with communities beyond their immediate districts.\n\n\n \n\n\nCome enjoy some coffee and great company. Don’t forget to RSVP using the link in our bio!
URL:https://northparkmainstreet.com/event/coffee-chat-with-mayor-aguirre/
LOCATION:North Park Main Street\, 2948 University Ave\, Floor 2\, San Diego\, 92104\, United States
CATEGORIES:Community Events
ATTACH;FMTTYPE=image/png:https://northparkmainstreet.com/wp-content/uploads/2025/02/Copy-of-2024-Coffee-Chat-Post.png
END:VEVENT
END:VCALENDAR