BEGIN:VCALENDAR
VERSION:2.0
PRODID:-//North Park Main Street - ECPv6.15.20//NONSGML v1.0//EN
CALSCALE:GREGORIAN
METHOD:PUBLISH
X-WR-CALNAME:North Park Main Street
X-ORIGINAL-URL:https://northparkmainstreet.com
X-WR-CALDESC:Events for North Park Main Street
REFRESH-INTERVAL;VALUE=DURATION:PT1H
X-Robots-Tag:noindex
X-PUBLISHED-TTL:PT1H
BEGIN:VTIMEZONE
TZID:America/Los_Angeles
BEGIN:DAYLIGHT
TZOFFSETFROM:-0800
TZOFFSETTO:-0700
TZNAME:PDT
DTSTART:20240310T100000
END:DAYLIGHT
BEGIN:STANDARD
TZOFFSETFROM:-0700
TZOFFSETTO:-0800
TZNAME:PST
DTSTART:20241103T090000
END:STANDARD
BEGIN:DAYLIGHT
TZOFFSETFROM:-0800
TZOFFSETTO:-0700
TZNAME:PDT
DTSTART:20250309T100000
END:DAYLIGHT
BEGIN:STANDARD
TZOFFSETFROM:-0700
TZOFFSETTO:-0800
TZNAME:PST
DTSTART:20251102T090000
END:STANDARD
BEGIN:DAYLIGHT
TZOFFSETFROM:-0800
TZOFFSETTO:-0700
TZNAME:PDT
DTSTART:20260308T100000
END:DAYLIGHT
BEGIN:STANDARD
TZOFFSETFROM:-0700
TZOFFSETTO:-0800
TZNAME:PST
DTSTART:20261101T090000
END:STANDARD
END:VTIMEZONE
BEGIN:VEVENT
DTSTART;TZID=America/Los_Angeles:20250204T160000
DTEND;TZID=America/Los_Angeles:20250204T180000
DTSTAMP:20260421T093829
CREATED:20241205T192815Z
LAST-MODIFIED:20241205T204909Z
UID:52733-1738684800-1738692000@northparkmainstreet.com
SUMMARY:Business Mixer
DESCRIPTION:Join us for our Business Mixer on February 4th from 4:00 to 6:00 PM at Crafted Coupe! We’ll be sharing updates on the new Explore North Park website and upcoming NPMS programs. The event will be followed by a social hour\, providing an excellent opportunity for business owners and community members to connect. RSVP now by clicking the link in our bio. We look forward to seeing you there!
URL:https://northparkmainstreet.com/event/explore-north-park-main-street/
LOCATION:Crafted Coupe\, 3933 30th St Suite 2\, San Diego\, CA\, 92104\, United States
CATEGORIES:Business,Community Events
ATTACH;FMTTYPE=image/png:https://northparkmainstreet.com/wp-content/uploads/2024/12/Elegant-Opening-Event-Coffee-Poster-2.png
END:VEVENT
END:VCALENDAR