BEGIN:VCALENDAR
VERSION:2.0
PRODID:-//North Park Main Street - ECPv6.15.20//NONSGML v1.0//EN
CALSCALE:GREGORIAN
METHOD:PUBLISH
X-WR-CALNAME:North Park Main Street
X-ORIGINAL-URL:https://northparkmainstreet.com
X-WR-CALDESC:Events for North Park Main Street
REFRESH-INTERVAL;VALUE=DURATION:PT1H
X-Robots-Tag:noindex
X-PUBLISHED-TTL:PT1H
BEGIN:VTIMEZONE
TZID:America/Los_Angeles
BEGIN:DAYLIGHT
TZOFFSETFROM:-0800
TZOFFSETTO:-0700
TZNAME:PDT
DTSTART:20240310T100000
END:DAYLIGHT
BEGIN:STANDARD
TZOFFSETFROM:-0700
TZOFFSETTO:-0800
TZNAME:PST
DTSTART:20241103T090000
END:STANDARD
BEGIN:DAYLIGHT
TZOFFSETFROM:-0800
TZOFFSETTO:-0700
TZNAME:PDT
DTSTART:20250309T100000
END:DAYLIGHT
BEGIN:STANDARD
TZOFFSETFROM:-0700
TZOFFSETTO:-0800
TZNAME:PST
DTSTART:20251102T090000
END:STANDARD
BEGIN:DAYLIGHT
TZOFFSETFROM:-0800
TZOFFSETTO:-0700
TZNAME:PDT
DTSTART:20260308T100000
END:DAYLIGHT
BEGIN:STANDARD
TZOFFSETFROM:-0700
TZOFFSETTO:-0800
TZNAME:PST
DTSTART:20261101T090000
END:STANDARD
END:VTIMEZONE
BEGIN:VEVENT
DTSTART;TZID=America/Los_Angeles:20250202T100000
DTEND;TZID=America/Los_Angeles:20250202T110000
DTSTAMP:20260421T093854
CREATED:20250129T182040Z
LAST-MODIFIED:20250129T182040Z
UID:52889-1738490400-1738494000@northparkmainstreet.com
SUMMARY:Rescheduled: Community Yoga at the Mini Park
DESCRIPTION:Get ready to sweat\, stretch\, and recharge with us at North Park Mini Park! Feel the burn with a powerful Pilates session one month\, then find your flow with a relaxing yoga practice the next. All levels welcome—come for the movement\, stay for the good vibes and community connection. \nUpcoming Sessions: \n• Jan 26 – Yoga \n• Feb 23 – Pilates \n• Mar 23 – Yoga \nWhat to Bring: \n• A yoga mat \n• Water \n• A positive attitude \nSuggested Donation: $15–$20 helps keep these classes free and accessible. (Venmo: @DominiqueChapman) \n📍 North Park Mini Park \n3812 29th St\, San Diego\, CA 92104 \nDon’t miss your chance to flow\, burn\, and connect. Come early to grab your spot—your Sunday reset starts here! \nUse the link down below to RSVP \nhttps://cravecommunity.setmore.com/classes/07e2dd5c-11de-440d-bb12-c06e9d359f3f
URL:https://northparkmainstreet.com/event/rescheduled-community-yoga-at-the-mini-park/
LOCATION:North Park Mini Park\, 3812 29th St\, San Diego\, CA\, 92104\, United States
CATEGORIES:Community Events
ATTACH;FMTTYPE=image/jpeg:https://northparkmainstreet.com/wp-content/uploads/2025/01/thumbnail_IMG_0894.jpg
END:VEVENT
END:VCALENDAR