BEGIN:VCALENDAR
VERSION:2.0
PRODID:-//North Park Main Street - ECPv6.15.20//NONSGML v1.0//EN
CALSCALE:GREGORIAN
METHOD:PUBLISH
X-WR-CALNAME:North Park Main Street
X-ORIGINAL-URL:https://northparkmainstreet.com
X-WR-CALDESC:Events for North Park Main Street
REFRESH-INTERVAL;VALUE=DURATION:PT1H
X-Robots-Tag:noindex
X-PUBLISHED-TTL:PT1H
BEGIN:VTIMEZONE
TZID:America/Los_Angeles
BEGIN:DAYLIGHT
TZOFFSETFROM:-0800
TZOFFSETTO:-0700
TZNAME:PDT
DTSTART:20230312T100000
END:DAYLIGHT
BEGIN:STANDARD
TZOFFSETFROM:-0700
TZOFFSETTO:-0800
TZNAME:PST
DTSTART:20231105T090000
END:STANDARD
BEGIN:DAYLIGHT
TZOFFSETFROM:-0800
TZOFFSETTO:-0700
TZNAME:PDT
DTSTART:20240310T100000
END:DAYLIGHT
BEGIN:STANDARD
TZOFFSETFROM:-0700
TZOFFSETTO:-0800
TZNAME:PST
DTSTART:20241103T090000
END:STANDARD
BEGIN:DAYLIGHT
TZOFFSETFROM:-0800
TZOFFSETTO:-0700
TZNAME:PDT
DTSTART:20250309T100000
END:DAYLIGHT
BEGIN:STANDARD
TZOFFSETFROM:-0700
TZOFFSETTO:-0800
TZNAME:PST
DTSTART:20251102T090000
END:STANDARD
END:VTIMEZONE
BEGIN:VEVENT
DTSTART;TZID=America/Los_Angeles:20241130T090000
DTEND;TZID=America/Los_Angeles:20241130T110000
DTSTAMP:20260421T121312
CREATED:20241121T002520Z
LAST-MODIFIED:20241121T002520Z
UID:52596-1732957200-1732964400@northparkmainstreet.com
SUMMARY:Turkey Trot 5k
DESCRIPTION:Turkey Trot 5k: Run\, Jog\, or Walk Your Way to Fun! \nJoin us for the Turkey Trot 5k\, a fantastic event to kick off your Thanksgiving weekend! Lace up your running shoes and get ready for a memorable day of fitness and community spirit. Whether you’re a seasoned runner\, a casual jogger\, or simply love to walk\, this event is perfect for everyone! \nEvent Details: \nOur Turkey Trot 5k is all about having a great time while staying active. Whether you’re aiming for a personal best or just want to enjoy a leisurely stroll\, this event caters to all levels of fitness. Kids under the age of 18 can run FREE! (Ages 13 and under must be accompanied by an adult) \nRace registration will open at 8:30 on race day. Race will begin at 9am and will end at North Park Mini Park. There you will obtain your voucher for a free Donut or Beer (must be 21+) from one of North Park’s most popular locations! \nWhy Join Us? \nParticipating in the Turkey Trot 5k is a wonderful opportunity to give back to the community. Not only will you be supporting local North Park businesses\, but you’ll also be surrounded by like-minded individuals who share a passion for health and wellness. \nRegistration: \nDon’t miss out on the fun! Secure your spot by registering online or at our registration booth on the day of the event. Gather your friends\, family\, or even your furry companions and make it a memorable day. We can’t wait to see you at the Turkey Trot 5k! \n  \nCLICK HERE TO SIGN UP
URL:https://northparkmainstreet.com/event/turkey-trot-5k/
LOCATION:Coach B’s Performance Training\, 2527 University Ave\, San Diego\, CA\, 92104\, United States
CATEGORIES:NPMS,Sales
ATTACH;FMTTYPE=image/jpeg:https://northparkmainstreet.com/wp-content/uploads/2024/11/Trukery-Trok-5k.jpeg
ORGANIZER;CN="Coach B's Performance Training":MAILTO:manager@northparkmainstreet.com
END:VEVENT
BEGIN:VEVENT
DTSTART;TZID=America/Los_Angeles:20241130T100000
DTEND;TZID=America/Los_Angeles:20241130T103000
DTSTAMP:20260421T121312
CREATED:20241125T160319Z
LAST-MODIFIED:20241125T190600Z
UID:52608-1732960800-1732962600@northparkmainstreet.com
SUMMARY:Ribbon Cutting - BCB Cafe
DESCRIPTION:Join us at BCB Café for a ribbon-cutting ceremony on Saturday\, November 30th\, at 10 AM\, before we kick off Explore Shop Local! They’ll be offering complimentary bagel sandwich samples and coffee and will be open from 8 AM to 12 PM. Don’t miss it!\n\n\n \n\n\nAbout Them\n\n\nFounded over 30 years ago by best friends Jennifer Reynolds and Kristee Gilbert\, BCB Café began with a vision: to serve tasty food and coffee drinks\, deliver exceptional customer service\, and offer the best bagels on the West Coast. Since their first location opened in Hillcrest in 1994\, BCB Café has expanded to 12 kiosks across San Diego\, including at SDSU\, UCSD\, and the San Diego Airport Rental Car Center.\n\n\n \n\n\nNow\, they’re thrilled to bring their legacy of great eats\, amazing drinks\, and a welcoming atmosphere to North Park. Join us and be part of this exciting milestone!
URL:https://northparkmainstreet.com/event/ribbon-cutting-bcb-cafe/
LOCATION:BCB Cafe\, 4152 30th Street\, San Diego\, CA\, 92104\, United States
CATEGORIES:Community Events
ATTACH;FMTTYPE=image/png:https://northparkmainstreet.com/wp-content/uploads/2024/11/Copy-of-Ribbon-Cuttings-Template-2.png
END:VEVENT
BEGIN:VEVENT
DTSTART;TZID=America/Los_Angeles:20241130T110000
DTEND;TZID=America/Los_Angeles:20241130T170000
DTSTAMP:20260421T121312
CREATED:20241120T214146Z
LAST-MODIFIED:20241120T214146Z
UID:52584-1732964400-1732986000@northparkmainstreet.com
SUMMARY:Shop Local Saturday
DESCRIPTION:Join us for a fun day of exploring North Park and shopping locally! Small businesses are the backbone of North Park’s thriving community and we invite you to visit your old favorites and find new gems this holiday season! \nCheck out our event page for more details on the scavenger hunt\, activities\, and discounts/deals!
URL:https://northparkmainstreet.com/event/shop-local-saturday/
CATEGORIES:NPMS
ATTACH;FMTTYPE=image/png:https://northparkmainstreet.com/wp-content/uploads/2024/11/EXPLogo-ShopNorthPark.png
END:VEVENT
BEGIN:VEVENT
DTSTART;TZID=America/Los_Angeles:20241130T110000
DTEND;TZID=America/Los_Angeles:20241130T170000
DTSTAMP:20260421T121312
CREATED:20241120T230346Z
LAST-MODIFIED:20241120T230346Z
UID:52592-1732964400-1732986000@northparkmainstreet.com
SUMMARY:Small Biz Big Deals Sidewalk Market
DESCRIPTION:North Park is hosting a neighborhood-wide community event and we here at #visualsd will be hosting an artist market and sticker expo 🤩 \nArtist vendors include…\n@_eyegato_\n@thisgirlhugstrees\n@organic.doom\n@verydecentgoods\n@jggart226\nPlus others\, see flyer. \nAlso\, in the gallery we are hosting @sticker.expo via @bomit\nShould be a great day!! \nFlyer courtesy of @nicholasdanger 🤙🏼🙏\nArt vendors coordinated by @thisgirlhugstrees
URL:https://northparkmainstreet.com/event/small-biz-big-deals-sidewalk-market/
LOCATION:Visual Gallery + Design\, 3778 30th Street\, San Diego\, CA\, 92104\, United States
CATEGORIES:NPMS,Special Events
ATTACH;FMTTYPE=image/jpeg:https://northparkmainstreet.com/wp-content/uploads/2024/11/IMG_7137-1-scaled.jpg
END:VEVENT
BEGIN:VEVENT
DTSTART;TZID=America/Los_Angeles:20241130T113000
DTEND;TZID=America/Los_Angeles:20241130T123000
DTSTAMP:20260421T121312
CREATED:20241125T231935Z
LAST-MODIFIED:20241125T232024Z
UID:52632-1732966200-1732969800@northparkmainstreet.com
SUMMARY:FREE Community Yoga
DESCRIPTION:Join Crave Community SD for a free community yoga session this Saturday! Bring your own yoga mat and enjoy an amazing session! \nMeet at the North Park Mini Park at 11:30 am \nAny yogis who attend the Shop Local press conference at 11 a.m. at A7D Creative Group (located near the Mini Park) will receive a free Shop Local Goodie Bag! \n  \n 
URL:https://northparkmainstreet.com/event/free-community-yoga-2/
LOCATION:North Park Mini Park\, 3812 29th St\, San Diego\, CA\, 92104\, United States
CATEGORIES:Community Events,NPMS
ATTACH;FMTTYPE=image/jpeg:https://northparkmainstreet.com/wp-content/uploads/2024/11/IMG_8067.jpeg
END:VEVENT
BEGIN:VEVENT
DTSTART;TZID=America/Los_Angeles:20241130T120000
DTEND;TZID=America/Los_Angeles:20241130T160000
DTSTAMP:20260421T121312
CREATED:20241127T211402Z
LAST-MODIFIED:20241127T212012Z
UID:52654-1732968000-1732982400@northparkmainstreet.com
SUMMARY:Cookie Decoration at Bivouac Adventure Lodge
DESCRIPTION:Cookie Decorating at Bivouac!\nDate: November 30th Time: 12 PM – 4 PM (or while supplies last) Location: Bivouac Adventure Lodge\nWhat’s Happening? \n\nKids Decorate for FREE! No purchase required\nAdults: Join the fun with a purchase of $9 or more from the Bivouac Universe (Adventure Lodge or Bivouac Ciderworks)\n\n-Simply show your receipt to the Cookie Lady to get your cookie and start decorating! \n \n*Bivouac Adventure Special\nWith a purchase of $150 or more\, enjoy a Cider Tasting for 4 as our gift to you!\nLara\, just to confirm\, did you want the Bivouac Adventure Special to be included in the flyer? Or is the special going to be a different flyer? If so\, I would have to check with A7D if they can do both flyers.\n\nCookie decorating provided by: Cake and Sip San Diego
URL:https://northparkmainstreet.com/event/cookie-decoration-at-bivouac-adventure-lodge/
LOCATION:Bivouac Adventure Lodge\, 3980 30th St.\, San Diego\, CA\, 92104\, United States
CATEGORIES:Community Events
ATTACH;FMTTYPE=image/jpeg:https://northparkmainstreet.com/wp-content/uploads/2024/11/Cookie-Decorating-.jpg
END:VEVENT
END:VCALENDAR