BEGIN:VCALENDAR
VERSION:2.0
PRODID:-//North Park Main Street - ECPv6.15.20//NONSGML v1.0//EN
CALSCALE:GREGORIAN
METHOD:PUBLISH
X-WR-CALNAME:North Park Main Street
X-ORIGINAL-URL:https://northparkmainstreet.com
X-WR-CALDESC:Events for North Park Main Street
REFRESH-INTERVAL;VALUE=DURATION:PT1H
X-Robots-Tag:noindex
X-PUBLISHED-TTL:PT1H
BEGIN:VTIMEZONE
TZID:America/Los_Angeles
BEGIN:DAYLIGHT
TZOFFSETFROM:-0800
TZOFFSETTO:-0700
TZNAME:PDT
DTSTART:20230312T100000
END:DAYLIGHT
BEGIN:STANDARD
TZOFFSETFROM:-0700
TZOFFSETTO:-0800
TZNAME:PST
DTSTART:20231105T090000
END:STANDARD
BEGIN:DAYLIGHT
TZOFFSETFROM:-0800
TZOFFSETTO:-0700
TZNAME:PDT
DTSTART:20240310T100000
END:DAYLIGHT
BEGIN:STANDARD
TZOFFSETFROM:-0700
TZOFFSETTO:-0800
TZNAME:PST
DTSTART:20241103T090000
END:STANDARD
BEGIN:DAYLIGHT
TZOFFSETFROM:-0800
TZOFFSETTO:-0700
TZNAME:PDT
DTSTART:20250309T100000
END:DAYLIGHT
BEGIN:STANDARD
TZOFFSETFROM:-0700
TZOFFSETTO:-0800
TZNAME:PST
DTSTART:20251102T090000
END:STANDARD
END:VTIMEZONE
BEGIN:VEVENT
DTSTART;TZID=America/Los_Angeles:20241113T180000
DTEND;TZID=America/Los_Angeles:20241113T200000
DTSTAMP:20260421T140120
CREATED:20241101T220333Z
LAST-MODIFIED:20241101T220333Z
UID:52439-1731520800-1731528000@northparkmainstreet.com
SUMMARY:FRIENDSGIVING45
DESCRIPTION:Join us for FRIENDSGIVING45! \nGet ready for a fun-filled gathering with friends at Bivouac Adventure Lodge: Cider Bar & Coffee Shop. Let’s celebrate good company and good times together. Don’t miss out on this in-person event where we’ll start with a 45 minute exclusive workout lead by our very own F45 coaches\, followed by a friendsgiving celebration. \nYour ticket includes: entry to our exclusive F45 workout and a drink after at the adventure lodge. Additional sips and bites will be available for purchase.
URL:https://northparkmainstreet.com/event/friendsgiving45/
LOCATION:Bivouac Adventure Lodge\, 3980 30th St.\, San Diego\, CA\, 92104\, United States
CATEGORIES:Community Events
ATTACH;FMTTYPE=image/png:https://northparkmainstreet.com/wp-content/uploads/2024/11/F45-x-Biv-1.png
END:VEVENT
END:VCALENDAR