BEGIN:VCALENDAR
VERSION:2.0
PRODID:-//North Park Main Street - ECPv6.15.20//NONSGML v1.0//EN
CALSCALE:GREGORIAN
METHOD:PUBLISH
X-ORIGINAL-URL:https://northparkmainstreet.com
X-WR-CALDESC:Events for North Park Main Street
REFRESH-INTERVAL;VALUE=DURATION:PT1H
X-Robots-Tag:noindex
X-PUBLISHED-TTL:PT1H
BEGIN:VTIMEZONE
TZID:America/Los_Angeles
BEGIN:DAYLIGHT
TZOFFSETFROM:-0800
TZOFFSETTO:-0700
TZNAME:PDT
DTSTART:20230312T100000
END:DAYLIGHT
BEGIN:STANDARD
TZOFFSETFROM:-0700
TZOFFSETTO:-0800
TZNAME:PST
DTSTART:20231105T090000
END:STANDARD
BEGIN:DAYLIGHT
TZOFFSETFROM:-0800
TZOFFSETTO:-0700
TZNAME:PDT
DTSTART:20240310T100000
END:DAYLIGHT
BEGIN:STANDARD
TZOFFSETFROM:-0700
TZOFFSETTO:-0800
TZNAME:PST
DTSTART:20241103T090000
END:STANDARD
BEGIN:DAYLIGHT
TZOFFSETFROM:-0800
TZOFFSETTO:-0700
TZNAME:PDT
DTSTART:20250309T100000
END:DAYLIGHT
BEGIN:STANDARD
TZOFFSETFROM:-0700
TZOFFSETTO:-0800
TZNAME:PST
DTSTART:20251102T090000
END:STANDARD
END:VTIMEZONE
BEGIN:VEVENT
DTSTART;TZID=America/Los_Angeles:20241110T120000
DTEND;TZID=America/Los_Angeles:20241110T140000
DTSTAMP:20260421T140126
CREATED:20241025T202917Z
LAST-MODIFIED:20241025T202917Z
UID:52419-1731240000-1731247200@northparkmainstreet.com
SUMMARY:Guild On The Streets - North Park Community Clean Up Led By San Diego Brewers Guild
DESCRIPTION:Join Us for the North Park Guild Beer Week Cleanup! \nCelebrate San Diego Beer Week 2024 by helping keep North Park beautiful! Join us and local breweries for a community cleanup event. It’s a fantastic way to meet neighbors\, enjoy the outdoors\, and give back to the community. \n🧹 North Park Cleanup\n📅 November 10 at 12 PM\n🎉 Partnering Breweries: Black Plague\, Pure Project\, and Seek! \nEveryone is welcome! Let’s work together to make North Park shine. For more details\, visit sdbeer.com/sdbeerweek
URL:https://northparkmainstreet.com/event/guild-on-the-streets-north-park-community-clean-up-led-by-san-diego-brewers-guild/
LOCATION:Black Plauge Brewing\, 2899 University Ave\, San Diego\, 92104
CATEGORIES:Community Events,NPMS
ATTACH;FMTTYPE=image/png:https://northparkmainstreet.com/wp-content/uploads/2024/10/Guild-Beer-Week-Cleanup-Flyer-1.png
END:VEVENT
END:VCALENDAR