BEGIN:VCALENDAR
VERSION:2.0
PRODID:-//North Park Main Street - ECPv6.15.20//NONSGML v1.0//EN
CALSCALE:GREGORIAN
METHOD:PUBLISH
X-WR-CALNAME:North Park Main Street
X-ORIGINAL-URL:https://northparkmainstreet.com
X-WR-CALDESC:Events for North Park Main Street
REFRESH-INTERVAL;VALUE=DURATION:PT1H
X-Robots-Tag:noindex
X-PUBLISHED-TTL:PT1H
BEGIN:VTIMEZONE
TZID:America/Los_Angeles
BEGIN:DAYLIGHT
TZOFFSETFROM:-0800
TZOFFSETTO:-0700
TZNAME:PDT
DTSTART:20230312T100000
END:DAYLIGHT
BEGIN:STANDARD
TZOFFSETFROM:-0700
TZOFFSETTO:-0800
TZNAME:PST
DTSTART:20231105T090000
END:STANDARD
BEGIN:DAYLIGHT
TZOFFSETFROM:-0800
TZOFFSETTO:-0700
TZNAME:PDT
DTSTART:20240310T100000
END:DAYLIGHT
BEGIN:STANDARD
TZOFFSETFROM:-0700
TZOFFSETTO:-0800
TZNAME:PST
DTSTART:20241103T090000
END:STANDARD
BEGIN:DAYLIGHT
TZOFFSETFROM:-0800
TZOFFSETTO:-0700
TZNAME:PDT
DTSTART:20250309T100000
END:DAYLIGHT
BEGIN:STANDARD
TZOFFSETFROM:-0700
TZOFFSETTO:-0800
TZNAME:PST
DTSTART:20251102T090000
END:STANDARD
END:VTIMEZONE
BEGIN:VEVENT
DTSTART;TZID=America/Los_Angeles:20241023T183000
DTEND;TZID=America/Los_Angeles:20241023T203000
DTSTAMP:20260421T150847
CREATED:20241014T220104Z
LAST-MODIFIED:20241014T220104Z
UID:52361-1729708200-1729715400@northparkmainstreet.com
SUMMARY:Patchwork Presents Fall Garland Craft Workshop
DESCRIPTION:Join Mike Hess in Craft Your Own Autumn Magic: Boho Garlands for a Spooktacular Season! \nOctober 23rd 6:30-8:30-pm \nRSVP using the link below \nhttps://www.eventbrite.com/e/patchwork-presents-fall-garland-craft-workshop-tickets-1029107727917?aff=ebdsoporgprofile
URL:https://northparkmainstreet.com/event/patchwork-presents-fall-garland-craft-workshop/
LOCATION:Mike Hess Brewery – North Park\, 3812 Grim Ave\, San Diego\, CA\, 92104\, United States
CATEGORIES:Community Events
END:VEVENT
END:VCALENDAR