BEGIN:VCALENDAR
VERSION:2.0
PRODID:-//North Park Main Street - ECPv6.15.20//NONSGML v1.0//EN
CALSCALE:GREGORIAN
METHOD:PUBLISH
X-ORIGINAL-URL:https://northparkmainstreet.com
X-WR-CALDESC:Events for North Park Main Street
REFRESH-INTERVAL;VALUE=DURATION:PT1H
X-Robots-Tag:noindex
X-PUBLISHED-TTL:PT1H
BEGIN:VTIMEZONE
TZID:America/Los_Angeles
BEGIN:DAYLIGHT
TZOFFSETFROM:-0800
TZOFFSETTO:-0700
TZNAME:PDT
DTSTART:20230312T100000
END:DAYLIGHT
BEGIN:STANDARD
TZOFFSETFROM:-0700
TZOFFSETTO:-0800
TZNAME:PST
DTSTART:20231105T090000
END:STANDARD
BEGIN:DAYLIGHT
TZOFFSETFROM:-0800
TZOFFSETTO:-0700
TZNAME:PDT
DTSTART:20240310T100000
END:DAYLIGHT
BEGIN:STANDARD
TZOFFSETFROM:-0700
TZOFFSETTO:-0800
TZNAME:PST
DTSTART:20241103T090000
END:STANDARD
BEGIN:DAYLIGHT
TZOFFSETFROM:-0800
TZOFFSETTO:-0700
TZNAME:PDT
DTSTART:20250309T100000
END:DAYLIGHT
BEGIN:STANDARD
TZOFFSETFROM:-0700
TZOFFSETTO:-0800
TZNAME:PST
DTSTART:20251102T090000
END:STANDARD
END:VTIMEZONE
BEGIN:VEVENT
DTSTART;TZID=America/Los_Angeles:20241020T130000
DTEND;TZID=America/Los_Angeles:20241020T150000
DTSTAMP:20260421T150856
CREATED:20241018T221353Z
LAST-MODIFIED:20241018T221353Z
UID:52398-1729429200-1729436400@northparkmainstreet.com
SUMMARY:St. Luke's Open House
DESCRIPTION:You’re invited to our open house at St. Luke’s Episcopal Church. You’ll enjoy African sambusas\, cotton candy\, joyful music and kids activities. \nWe’re a multicultural\, kid-centered Episcopal church with East African roots and get-up and-dance music in Swahili\, Arabic\, and English. Come worship with us at 8 and 11:15 a.m. on Sundays. Or reach out if you’d just like to chat or wonder about God together! Please let us know how we can be the best neighbors we can for you. Pastors Colin and Laurel Mathewson colin@stlukesnorthpark.org\, 619-977-8173
URL:https://northparkmainstreet.com/event/st-lukes-open-house/
LOCATION:St. Luke’s Episcopal Church\, 3725 30th Street\, San Diego\, CA\, United States
CATEGORIES:Community Events
ATTACH;FMTTYPE=image/jpeg:https://northparkmainstreet.com/wp-content/uploads/2024/10/Open-house.jpg
END:VEVENT
END:VCALENDAR