BEGIN:VCALENDAR
VERSION:2.0
PRODID:-//North Park Main Street - ECPv6.15.20//NONSGML v1.0//EN
CALSCALE:GREGORIAN
METHOD:PUBLISH
X-WR-CALNAME:North Park Main Street
X-ORIGINAL-URL:https://northparkmainstreet.com
X-WR-CALDESC:Events for North Park Main Street
REFRESH-INTERVAL;VALUE=DURATION:PT1H
X-Robots-Tag:noindex
X-PUBLISHED-TTL:PT1H
BEGIN:VTIMEZONE
TZID:America/Los_Angeles
BEGIN:DAYLIGHT
TZOFFSETFROM:-0800
TZOFFSETTO:-0700
TZNAME:PDT
DTSTART:20230312T100000
END:DAYLIGHT
BEGIN:STANDARD
TZOFFSETFROM:-0700
TZOFFSETTO:-0800
TZNAME:PST
DTSTART:20231105T090000
END:STANDARD
BEGIN:DAYLIGHT
TZOFFSETFROM:-0800
TZOFFSETTO:-0700
TZNAME:PDT
DTSTART:20240310T100000
END:DAYLIGHT
BEGIN:STANDARD
TZOFFSETFROM:-0700
TZOFFSETTO:-0800
TZNAME:PST
DTSTART:20241103T090000
END:STANDARD
BEGIN:DAYLIGHT
TZOFFSETFROM:-0800
TZOFFSETTO:-0700
TZNAME:PDT
DTSTART:20250309T100000
END:DAYLIGHT
BEGIN:STANDARD
TZOFFSETFROM:-0700
TZOFFSETTO:-0800
TZNAME:PST
DTSTART:20251102T090000
END:STANDARD
END:VTIMEZONE
BEGIN:VEVENT
DTSTART;TZID=America/Los_Angeles:20241004T153000
DTEND;TZID=America/Los_Angeles:20241004T160000
DTSTAMP:20260423T042911
CREATED:20240926T204856Z
LAST-MODIFIED:20241004T144056Z
UID:52261-1728055800-1728057600@northparkmainstreet.com
SUMMARY:Ribbon Cutting - SMOOTHED!
DESCRIPTION:Join us for the ribbon cutting of SMOOTHED! \nWhen: Friday\, October 4th \nTime: 3:30pm \nWhere: 3436 30th St \nThey’ll be offering champagne and sweet treats at the event! Plus\, don’t miss your chance to enter our drawing for a complimentary keratin treatment! \nA little about this new luxury salon:\nSMOOTHED is a luxury salon specializing exclusively in keratin treatments\, designed to give women their time back by offering smoother\, more manageable hair with minimal effort. Led by licensed cosmetologist Kaylie Babajan\, who has over 10 years of experience and has performed more than 10\,000 treatments\, SMOOTHED provides customized\, transformative results for every hair type. Our salon is dedicated to enhancing our clients’ hair while allowing them the freedom to focus on what matters most in their lives. \nRSVP down below
URL:https://northparkmainstreet.com/event/ribbon-cutting-smoothed/
LOCATION:SMOOTHED\, 3436 30th St\, San Diego\, CA\, 92104\, United States
ATTACH;FMTTYPE=image/png:https://northparkmainstreet.com/wp-content/uploads/2024/09/SMOOTHED-RIBBON-CUTTING.png
END:VEVENT
END:VCALENDAR