BEGIN:VCALENDAR
VERSION:2.0
PRODID:-//North Park Main Street - ECPv6.15.20//NONSGML v1.0//EN
CALSCALE:GREGORIAN
METHOD:PUBLISH
X-WR-CALNAME:North Park Main Street
X-ORIGINAL-URL:https://northparkmainstreet.com
X-WR-CALDESC:Events for North Park Main Street
REFRESH-INTERVAL;VALUE=DURATION:PT1H
X-Robots-Tag:noindex
X-PUBLISHED-TTL:PT1H
BEGIN:VTIMEZONE
TZID:America/Los_Angeles
BEGIN:DAYLIGHT
TZOFFSETFROM:-0800
TZOFFSETTO:-0700
TZNAME:PDT
DTSTART:20230312T100000
END:DAYLIGHT
BEGIN:STANDARD
TZOFFSETFROM:-0700
TZOFFSETTO:-0800
TZNAME:PST
DTSTART:20231105T090000
END:STANDARD
BEGIN:DAYLIGHT
TZOFFSETFROM:-0800
TZOFFSETTO:-0700
TZNAME:PDT
DTSTART:20240310T100000
END:DAYLIGHT
BEGIN:STANDARD
TZOFFSETFROM:-0700
TZOFFSETTO:-0800
TZNAME:PST
DTSTART:20241103T090000
END:STANDARD
BEGIN:DAYLIGHT
TZOFFSETFROM:-0800
TZOFFSETTO:-0700
TZNAME:PDT
DTSTART:20250309T100000
END:DAYLIGHT
BEGIN:STANDARD
TZOFFSETFROM:-0700
TZOFFSETTO:-0800
TZNAME:PST
DTSTART:20251102T090000
END:STANDARD
END:VTIMEZONE
BEGIN:VEVENT
DTSTART;TZID=America/Los_Angeles:20240831T140000
DTEND;TZID=America/Los_Angeles:20240831T170000
DTSTAMP:20260421T174659
CREATED:20240826T161949Z
LAST-MODIFIED:20240826T161949Z
UID:52099-1725112800-1725123600@northparkmainstreet.com
SUMMARY:1 Year Celebration of Falafel Heights!
DESCRIPTION:Join us in celebrating Falafel Heights’s 1 Year Celebration!\nWhen: Saturday\, August 31st\nWhere: 4118 30th St\nTime: 2-5pm\nEnjoy live music\, food specials and a raffle!
URL:https://northparkmainstreet.com/event/1-year-celebration-of-falafel-heights/
CATEGORIES:Community Events
ATTACH;FMTTYPE=image/jpeg:https://northparkmainstreet.com/wp-content/uploads/2024/08/thumbnail_image_123650291.jpg
END:VEVENT
BEGIN:VEVENT
DTSTART;TZID=America/Los_Angeles:20240831T160000
DTEND;TZID=America/Los_Angeles:20240831T180000
DTSTAMP:20260421T174659
CREATED:20240822T192616Z
LAST-MODIFIED:20240828T203518Z
UID:52010-1725120000-1725127200@northparkmainstreet.com
SUMMARY:Pure Pawsh Ribbon Cutting!
DESCRIPTION:Join us for the ribbon cutting of Pure Pawsh \nWhen: Saturday\, August 31st \nTime: 4 PM \nWhere: 4045 30th St. \nWhat to Expect: \n\nA celebration with local vendors\nDelicious bites from a taco truck\nBeer for both humans and dogs\nAn Ice Cream Bar with toppings for our non-beer-drinking dogs!\n10% of all proceeds will benefit the San Diego Humane Society—your support makes a difference!\n\nHow You Can Help: \n\nFood Donations: Bring much-needed food donations for the San Diego Humane Society\, or purchase them in-store.\nSpecial Offer: Anyone who contributes an additional donation of $20 or more to the San Diego Humane Society will receive a FREE dog wash—and for donations above $50\, you’ll also receive a special gift from Pure Pawsh as a token of our appreciation!\n\nDon’t forget to RSVP!
URL:https://northparkmainstreet.com/event/52010/
LOCATION:Pure Pawsh\, 4045 30th St.\, San Diego\, CA\, 92104\, United States
CATEGORIES:Community Events
ATTACH;FMTTYPE=image/png:https://northparkmainstreet.com/wp-content/uploads/2024/08/Pure-Pawsh-Ribbon-Cutting-1.png
END:VEVENT
END:VCALENDAR