BEGIN:VCALENDAR
VERSION:2.0
PRODID:-//North Park Main Street - ECPv6.15.20//NONSGML v1.0//EN
CALSCALE:GREGORIAN
METHOD:PUBLISH
X-WR-CALNAME:North Park Main Street
X-ORIGINAL-URL:https://northparkmainstreet.com
X-WR-CALDESC:Events for North Park Main Street
REFRESH-INTERVAL;VALUE=DURATION:PT1H
X-Robots-Tag:noindex
X-PUBLISHED-TTL:PT1H
BEGIN:VTIMEZONE
TZID:America/Los_Angeles
BEGIN:DAYLIGHT
TZOFFSETFROM:-0800
TZOFFSETTO:-0700
TZNAME:PDT
DTSTART:20230312T100000
END:DAYLIGHT
BEGIN:STANDARD
TZOFFSETFROM:-0700
TZOFFSETTO:-0800
TZNAME:PST
DTSTART:20231105T090000
END:STANDARD
BEGIN:DAYLIGHT
TZOFFSETFROM:-0800
TZOFFSETTO:-0700
TZNAME:PDT
DTSTART:20240310T100000
END:DAYLIGHT
BEGIN:STANDARD
TZOFFSETFROM:-0700
TZOFFSETTO:-0800
TZNAME:PST
DTSTART:20241103T090000
END:STANDARD
BEGIN:DAYLIGHT
TZOFFSETFROM:-0800
TZOFFSETTO:-0700
TZNAME:PDT
DTSTART:20250309T100000
END:DAYLIGHT
BEGIN:STANDARD
TZOFFSETFROM:-0700
TZOFFSETTO:-0800
TZNAME:PST
DTSTART:20251102T090000
END:STANDARD
END:VTIMEZONE
BEGIN:VEVENT
DTSTART;TZID=America/Los_Angeles:20240816T170000
DTEND;TZID=America/Los_Angeles:20240816T220000
DTSTAMP:20260421T191534
CREATED:20240715T231548Z
LAST-MODIFIED:20240715T232213Z
UID:51770-1723827600-1723845600@northparkmainstreet.com
SUMMARY:Subterranean Night Market
DESCRIPTION:We are thrilled to announce the Subterranean Night Market\, a vibrant community event taking place on August 16th\, 2024\, from 5:00 PM to 10:00 PM at Subterranean Coffee North Park (3764 30th St.\, San Diego\, CA 92104). \nEvent Details: The Subterranean Night Market is designed to celebrate local artists and crafters\, providing a platform to showcase and sell unique handmade items\, including art\, jewelry\, handcrafted goods\, vintage clothing\, and accessories. We aim to create a diverse and exciting mix of products\, featuring both established and emerging vendors. \nHighlights: \n$5 coupon for first 10 Attendees: The first 10 market attendees will receive a $5 coupon to use at the market\, encouraging early arrivals and boosting sales for our vendors. \nRaffle: There will be a raffle at the end of the night\, adding an element of excitement and ensuring attendees stay until the end. Also\, more raffle prizes are welcome! Let us know if you can donate an item. \nCommunity Engagement: This event is an excellent opportunity to connect with local shoppers\, build your brand\, and join a supportive community of creatives. \n  \nYou can find more info on the event below \nEventbrite: https://www.eventbrite.com/e/subterranean-night-market-tickets-940640098857?aff=vendor \nFacebook: https://www.facebook.com/events/3853034038312447
URL:https://northparkmainstreet.com/event/subterranean-night-market/
LOCATION:Subterranean Coffee Boutique\, 3764 30th St\, San Diego\, CA\, 92104\, United States
CATEGORIES:Community Events,NPMS
ATTACH;FMTTYPE=image/png:https://northparkmainstreet.com/wp-content/uploads/2024/07/Subterranean-Night-Market-IG.png
END:VEVENT
END:VCALENDAR