BEGIN:VCALENDAR
VERSION:2.0
PRODID:-//North Park Main Street - ECPv6.15.20//NONSGML v1.0//EN
CALSCALE:GREGORIAN
METHOD:PUBLISH
X-WR-CALNAME:North Park Main Street
X-ORIGINAL-URL:https://northparkmainstreet.com
X-WR-CALDESC:Events for North Park Main Street
REFRESH-INTERVAL;VALUE=DURATION:PT1H
X-Robots-Tag:noindex
X-PUBLISHED-TTL:PT1H
BEGIN:VTIMEZONE
TZID:America/Los_Angeles
BEGIN:DAYLIGHT
TZOFFSETFROM:-0800
TZOFFSETTO:-0700
TZNAME:PDT
DTSTART:20220313T100000
END:DAYLIGHT
BEGIN:STANDARD
TZOFFSETFROM:-0700
TZOFFSETTO:-0800
TZNAME:PST
DTSTART:20221106T090000
END:STANDARD
BEGIN:DAYLIGHT
TZOFFSETFROM:-0800
TZOFFSETTO:-0700
TZNAME:PDT
DTSTART:20230312T100000
END:DAYLIGHT
BEGIN:STANDARD
TZOFFSETFROM:-0700
TZOFFSETTO:-0800
TZNAME:PST
DTSTART:20231105T090000
END:STANDARD
BEGIN:DAYLIGHT
TZOFFSETFROM:-0800
TZOFFSETTO:-0700
TZNAME:PDT
DTSTART:20240310T100000
END:DAYLIGHT
BEGIN:STANDARD
TZOFFSETFROM:-0700
TZOFFSETTO:-0800
TZNAME:PST
DTSTART:20241103T090000
END:STANDARD
BEGIN:DAYLIGHT
TZOFFSETFROM:-0800
TZOFFSETTO:-0700
TZNAME:PDT
DTSTART:20250309T100000
END:DAYLIGHT
BEGIN:STANDARD
TZOFFSETFROM:-0700
TZOFFSETTO:-0800
TZNAME:PST
DTSTART:20251102T090000
END:STANDARD
END:VTIMEZONE
BEGIN:VEVENT
DTSTART;TZID=America/Los_Angeles:20240810T080000
DTEND;TZID=America/Los_Angeles:20240810T180000
DTSTAMP:20260421T191444
CREATED:20240730T210757Z
LAST-MODIFIED:20240731T183526Z
UID:51878-1723276800-1723312800@northparkmainstreet.com
SUMMARY:Disaster Relief Trials Southern California
DESCRIPTION:On August 10th\, 2024 8am-6pm\, for SoCal’s first annual Disaster Relief Trials and Resilience Fair! Organized by San Diego’s bike mobility advocates and cargo bike enthusiasts\, this event showcases the power of cargo bikes in urban logistics and emergency response. For more info\, visit https://drtsocal.com/ \nIf you are interested in volunteering\, use this link to sign-up to volunteer. \n  \n  \n  \n  \n 
URL:https://northparkmainstreet.com/event/disaster-relief-trials-southern-california/
CATEGORIES:Community Events
ATTACH;FMTTYPE=image/png:https://northparkmainstreet.com/wp-content/uploads/2024/07/2nd-Flyer-DRT.png
END:VEVENT
BEGIN:VEVENT
DTSTART;TZID=America/Los_Angeles:20240810T110000
DTEND;TZID=America/Los_Angeles:20240810T150000
DTSTAMP:20260421T191444
CREATED:20240719T175419Z
LAST-MODIFIED:20240719T175419Z
UID:51776-1723287600-1723302000@northparkmainstreet.com
SUMMARY:Home + Hound 5 Year Anniversary
DESCRIPTION:Home + Hound turns 5!!\nJoin us for HOME + HOUND’s 5th Anniversary Celebration! \n\nSaturday\, August 10 from 11AM – 3PM\n3813 Ray Street\, 92104\n\n\nSpecials for Customers\n\n+ 20% OFF SALE\n+ Gift with purchase (spend $100+ to receive ($50 value)\, while supplies last)\n+ Enter for a chance to win a $50\, $75\, or $100 gift card (Drawing held at 2 pm\, must be present to win\n\n+ Complimentary refreshments\n\n+ Professional pet portraits by The Woof Booth (Session fee waived for first 15 guests (a $69 value!)\, remaining sessions offered at $29 each\, included 4×6 inch print + digital download.)\n\nDriving to our event?\n2-hour street parking may be available nearby or have guaranteed parking just two blocks away at the North Park Garage (3829 29th St) for $1 per hour
URL:https://northparkmainstreet.com/event/home-hound-5-year-anniversary/
LOCATION:Home + Hound\, 3813 Ray Street\, San Diego\, CA\, 92104\, United States
CATEGORIES:Community Events,NPMS
ATTACH;FMTTYPE=application/pdf:https://northparkmainstreet.com/wp-content/uploads/2024/07/HOME-AND-HOUND_ANNIVERSARY-EVENT_PRINT.pdf
END:VEVENT
BEGIN:VEVENT
DTSTART;TZID=America/Los_Angeles:20230812T120000
DTEND;TZID=America/Los_Angeles:20230812T160000
DTSTAMP:20260421T191444
CREATED:20230728T233240Z
LAST-MODIFIED:20231006T151502Z
UID:49097-1691841600-1691856000@northparkmainstreet.com
SUMMARY:North Park Vegan Food Popup
DESCRIPTION:2nd Saturdays\n12 pm – 4 pm\nNorth Park Mini Park\n3812 29th St\, San Diego \nSan Diego’s biggest outdoor vegan market\, featuring over 60 vendors. The North Park Vegan Food Popup is located at the North Park Mini Park\, a vibrant outdoor plaza featuring several seating areas\, gardens and a play area for kids. \nVegan Food Popup markets are free events that showcase the best plant-based food in SoCal\, featuring a rotating lineup of diverse vendors from San Diego\, Orange County and LA offering an amazing selection of eats and treats including Pizza\, Burgers\, Donuts\, Nachos\, Croissants\, Noodles\, Bao\, Stuffed Waffles\, Boba\, Corn Dogs\, Ice Cream\, Dumplings\, Hot Wings\, Sushi\, Cookies\, Curries & so much more.
URL:https://northparkmainstreet.com/event/north-park-vegan-food-popup/
LOCATION:North Park Mini Park\, 3812 29th St\, San Diego\, CA\, 92104\, United States
CATEGORIES:Special Events
ATTACH;FMTTYPE=image/jpeg:https://northparkmainstreet.com/wp-content/uploads/2023/07/NPVFM-Logo.jpg
ORGANIZER;CN="Vegan Food Popup":MAILTO:info@veganfoodpopup.com
END:VEVENT
END:VCALENDAR