BEGIN:VCALENDAR
VERSION:2.0
PRODID:-//North Park Main Street - ECPv6.15.20//NONSGML v1.0//EN
CALSCALE:GREGORIAN
METHOD:PUBLISH
X-WR-CALNAME:North Park Main Street
X-ORIGINAL-URL:https://northparkmainstreet.com
X-WR-CALDESC:Events for North Park Main Street
REFRESH-INTERVAL;VALUE=DURATION:PT1H
X-Robots-Tag:noindex
X-PUBLISHED-TTL:PT1H
BEGIN:VTIMEZONE
TZID:America/Los_Angeles
BEGIN:DAYLIGHT
TZOFFSETFROM:-0800
TZOFFSETTO:-0700
TZNAME:PDT
DTSTART:20230312T100000
END:DAYLIGHT
BEGIN:STANDARD
TZOFFSETFROM:-0700
TZOFFSETTO:-0800
TZNAME:PST
DTSTART:20231105T090000
END:STANDARD
BEGIN:DAYLIGHT
TZOFFSETFROM:-0800
TZOFFSETTO:-0700
TZNAME:PDT
DTSTART:20240310T100000
END:DAYLIGHT
BEGIN:STANDARD
TZOFFSETFROM:-0700
TZOFFSETTO:-0800
TZNAME:PST
DTSTART:20241103T090000
END:STANDARD
BEGIN:DAYLIGHT
TZOFFSETFROM:-0800
TZOFFSETTO:-0700
TZNAME:PDT
DTSTART:20250309T100000
END:DAYLIGHT
BEGIN:STANDARD
TZOFFSETFROM:-0700
TZOFFSETTO:-0800
TZNAME:PST
DTSTART:20251102T090000
END:STANDARD
END:VTIMEZONE
BEGIN:VEVENT
DTSTART;TZID=America/Los_Angeles:20240809T180000
DTEND;TZID=America/Los_Angeles:20240809T193000
DTSTAMP:20260421T191556
CREATED:20240802T214156Z
LAST-MODIFIED:20240802T214156Z
UID:51899-1723226400-1723231800@northparkmainstreet.com
SUMMARY:City Council District 3 - Candidate Forum
DESCRIPTION:San Diego Organizing Project (SDOP) is hosting a candidate forum with District 3 candidates\, Councilmember Stephen Whitburn and Coleen Cusack\, on Friday\, August 9th from 6 to 7 pm at St. Luke’s Episcopal Church. \nAll are welcome to join as they discuss each candidate’s position on various topics.
URL:https://northparkmainstreet.com/event/city-council-district-3-candidate-forum/
LOCATION:St Lukes\, 3725 30th Street\, San Diego\, CA\, 92104
CATEGORIES:Community Events
ATTACH;FMTTYPE=image/png:https://northparkmainstreet.com/wp-content/uploads/2024/08/08.09-Candidate-Full-Size-St.-Luke-1-1-1.png
END:VEVENT
END:VCALENDAR