BEGIN:VCALENDAR
VERSION:2.0
PRODID:-//North Park Main Street - ECPv6.15.20//NONSGML v1.0//EN
CALSCALE:GREGORIAN
METHOD:PUBLISH
X-WR-CALNAME:North Park Main Street
X-ORIGINAL-URL:https://northparkmainstreet.com
X-WR-CALDESC:Events for North Park Main Street
REFRESH-INTERVAL;VALUE=DURATION:PT1H
X-Robots-Tag:noindex
X-PUBLISHED-TTL:PT1H
BEGIN:VTIMEZONE
TZID:America/Los_Angeles
BEGIN:DAYLIGHT
TZOFFSETFROM:-0800
TZOFFSETTO:-0700
TZNAME:PDT
DTSTART:20220313T100000
END:DAYLIGHT
BEGIN:STANDARD
TZOFFSETFROM:-0700
TZOFFSETTO:-0800
TZNAME:PST
DTSTART:20221106T090000
END:STANDARD
BEGIN:DAYLIGHT
TZOFFSETFROM:-0800
TZOFFSETTO:-0700
TZNAME:PDT
DTSTART:20230312T100000
END:DAYLIGHT
BEGIN:STANDARD
TZOFFSETFROM:-0700
TZOFFSETTO:-0800
TZNAME:PST
DTSTART:20231105T090000
END:STANDARD
BEGIN:DAYLIGHT
TZOFFSETFROM:-0800
TZOFFSETTO:-0700
TZNAME:PDT
DTSTART:20240310T100000
END:DAYLIGHT
BEGIN:STANDARD
TZOFFSETFROM:-0700
TZOFFSETTO:-0800
TZNAME:PST
DTSTART:20241103T090000
END:STANDARD
BEGIN:DAYLIGHT
TZOFFSETFROM:-0800
TZOFFSETTO:-0700
TZNAME:PDT
DTSTART:20250309T100000
END:DAYLIGHT
BEGIN:STANDARD
TZOFFSETFROM:-0700
TZOFFSETTO:-0800
TZNAME:PST
DTSTART:20251102T090000
END:STANDARD
END:VTIMEZONE
BEGIN:VEVENT
DTSTART;TZID=America/Los_Angeles:20230726T140000
DTEND;TZID=America/Los_Angeles:20230726T150000
DTSTAMP:20260421T182125
CREATED:20230707T223906Z
LAST-MODIFIED:20240313T222114Z
UID:48948-1690380000-1690383600@northparkmainstreet.com
SUMMARY:Beautification Committee Meeting
DESCRIPTION:Agendas & Minutes \nBeautification Meetings are held in person and via Microsoft Teams. To join virtually\, use the link below: \n  \n\nJoin on your computer\, mobile app or room device\nClick here to join the meeting \n\n\nMeeting ID: 253 784 307 317\nPasscode: YNbQnf
URL:https://northparkmainstreet.com/event/beautification-committee-meeting/
LOCATION:North Park Main Street\, 2948 University Ave\, Floor 2\, San Diego\, 92104\, United States
CATEGORIES:NPMS
ATTACH;FMTTYPE=image/png:https://northparkmainstreet.com/wp-content/uploads/2023/07/2023-Meeting-Notification-1.png
END:VEVENT
BEGIN:VEVENT
DTSTART;TZID=America/Los_Angeles:20240522T163000
DTEND;TZID=America/Los_Angeles:20240522T173000
DTSTAMP:20260421T182125
CREATED:20240509T191808Z
LAST-MODIFIED:20240514T171137Z
UID:51443-1716395400-1716399000@northparkmainstreet.com
SUMMARY:Cacio e Pepe' Ribbon Cutting
DESCRIPTION:Join for the ribbon cutting for Cacio e Pepe! Don’t miss out on their special offer of Roman Pizza and $3 glasses of wine! ? \nWhen: Wednesday\, May 22 \nTime: 4:30 \nWhere: 2835 University Ave \nRSVP down below! \n 
URL:https://northparkmainstreet.com/event/cacio-e-pepe-ribbon-cutting/
LOCATION:Cacio e Pepe\, 2835 University Ave\, San Diego\, CA\, 92104\, United States
CATEGORIES:Community Events
ATTACH;FMTTYPE=image/png:https://northparkmainstreet.com/wp-content/uploads/2024/05/Copy-of-Ribbon-Cuttings-Template-2.png
END:VEVENT
END:VCALENDAR