BEGIN:VCALENDAR
VERSION:2.0
PRODID:-//North Park Main Street - ECPv6.15.20//NONSGML v1.0//EN
CALSCALE:GREGORIAN
METHOD:PUBLISH
X-ORIGINAL-URL:https://northparkmainstreet.com
X-WR-CALDESC:Events for North Park Main Street
REFRESH-INTERVAL;VALUE=DURATION:PT1H
X-Robots-Tag:noindex
X-PUBLISHED-TTL:PT1H
BEGIN:VTIMEZONE
TZID:America/Los_Angeles
BEGIN:DAYLIGHT
TZOFFSETFROM:-0800
TZOFFSETTO:-0700
TZNAME:PDT
DTSTART:20230312T100000
END:DAYLIGHT
BEGIN:STANDARD
TZOFFSETFROM:-0700
TZOFFSETTO:-0800
TZNAME:PST
DTSTART:20231105T090000
END:STANDARD
BEGIN:DAYLIGHT
TZOFFSETFROM:-0800
TZOFFSETTO:-0700
TZNAME:PDT
DTSTART:20240310T100000
END:DAYLIGHT
BEGIN:STANDARD
TZOFFSETFROM:-0700
TZOFFSETTO:-0800
TZNAME:PST
DTSTART:20241103T090000
END:STANDARD
BEGIN:DAYLIGHT
TZOFFSETFROM:-0800
TZOFFSETTO:-0700
TZNAME:PDT
DTSTART:20250309T100000
END:DAYLIGHT
BEGIN:STANDARD
TZOFFSETFROM:-0700
TZOFFSETTO:-0800
TZNAME:PST
DTSTART:20251102T090000
END:STANDARD
END:VTIMEZONE
BEGIN:VEVENT
DTSTART;TZID=America/Los_Angeles:20240508T090000
DTEND;TZID=America/Los_Angeles:20240508T100000
DTSTAMP:20260421T180449
CREATED:20240404T182037Z
LAST-MODIFIED:20240429T170004Z
UID:51143-1715158800-1715162400@northparkmainstreet.com
SUMMARY:Coffee Chat with Supervisor Montgomery Steppe
DESCRIPTION:Coffee chats are a way for community members to connect with those who are working for them in a direct and more informal environment. \nJoin us at NPMS on Wednesday\, May 8th at 9am for Community Coffee with Supervisor Montgomery Steppe These meetings aim to invite our community leaders to meet with their community. ​​​​​​​​​​​​​​​​​​All are welcome!
URL:https://northparkmainstreet.com/event/coffee-chat-with-supervisor-montgomery-steppe/
LOCATION:North Park Main Street\, 2948 University Ave\, Floor 2\, San Diego\, 92104\, United States
ATTACH;FMTTYPE=image/png:https://northparkmainstreet.com/wp-content/uploads/2024/04/2024-Coffee-Chat-Post.png
END:VEVENT
END:VCALENDAR