BEGIN:VCALENDAR
VERSION:2.0
PRODID:-//North Park Main Street - ECPv6.15.20//NONSGML v1.0//EN
CALSCALE:GREGORIAN
METHOD:PUBLISH
X-WR-CALNAME:North Park Main Street
X-ORIGINAL-URL:https://northparkmainstreet.com
X-WR-CALDESC:Events for North Park Main Street
REFRESH-INTERVAL;VALUE=DURATION:PT1H
X-Robots-Tag:noindex
X-PUBLISHED-TTL:PT1H
BEGIN:VTIMEZONE
TZID:America/Los_Angeles
BEGIN:DAYLIGHT
TZOFFSETFROM:-0800
TZOFFSETTO:-0700
TZNAME:PDT
DTSTART:20220313T100000
END:DAYLIGHT
BEGIN:STANDARD
TZOFFSETFROM:-0700
TZOFFSETTO:-0800
TZNAME:PST
DTSTART:20221106T090000
END:STANDARD
BEGIN:DAYLIGHT
TZOFFSETFROM:-0800
TZOFFSETTO:-0700
TZNAME:PDT
DTSTART:20230312T100000
END:DAYLIGHT
BEGIN:STANDARD
TZOFFSETFROM:-0700
TZOFFSETTO:-0800
TZNAME:PST
DTSTART:20231105T090000
END:STANDARD
BEGIN:DAYLIGHT
TZOFFSETFROM:-0800
TZOFFSETTO:-0700
TZNAME:PDT
DTSTART:20240310T100000
END:DAYLIGHT
BEGIN:STANDARD
TZOFFSETFROM:-0700
TZOFFSETTO:-0800
TZNAME:PST
DTSTART:20241103T090000
END:STANDARD
END:VTIMEZONE
BEGIN:VEVENT
DTSTART;TZID=America/Los_Angeles:20230725T110000
DTEND;TZID=America/Los_Angeles:20230725T120000
DTSTAMP:20260421T193845
CREATED:20230707T224754Z
LAST-MODIFIED:20240724T164841Z
UID:48951-1690282800-1690286400@northparkmainstreet.com
SUMMARY:Economic Development Committee Meeting
DESCRIPTION:Agendas & Minutes \nMeetings are held in person and via Microsoft Teams. To join virtually\, use the link below: \n  \n\nJoin on your computer\, mobile app or room device\nClick here to join the meeting \n\n\nMeeting ID: 274 356 225 734\nPasscode: SLNEK3\n\n 
URL:https://northparkmainstreet.com/event/events-promotions-committee-meeting/
LOCATION:North Park Main Street\, 2948 University Ave\, Floor 2\, San Diego\, 92104\, United States
CATEGORIES:NPMS
ATTACH;FMTTYPE=image/png:https://northparkmainstreet.com/wp-content/uploads/2023/07/6.png
END:VEVENT
END:VCALENDAR