BEGIN:VCALENDAR
VERSION:2.0
PRODID:-//North Park Main Street - ECPv6.15.20//NONSGML v1.0//EN
CALSCALE:GREGORIAN
METHOD:PUBLISH
X-ORIGINAL-URL:https://northparkmainstreet.com
X-WR-CALDESC:Events for North Park Main Street
REFRESH-INTERVAL;VALUE=DURATION:PT1H
X-Robots-Tag:noindex
X-PUBLISHED-TTL:PT1H
BEGIN:VTIMEZONE
TZID:America/Los_Angeles
BEGIN:DAYLIGHT
TZOFFSETFROM:-0800
TZOFFSETTO:-0700
TZNAME:PDT
DTSTART:20220313T100000
END:DAYLIGHT
BEGIN:STANDARD
TZOFFSETFROM:-0700
TZOFFSETTO:-0800
TZNAME:PST
DTSTART:20221106T090000
END:STANDARD
BEGIN:DAYLIGHT
TZOFFSETFROM:-0800
TZOFFSETTO:-0700
TZNAME:PDT
DTSTART:20230312T100000
END:DAYLIGHT
BEGIN:STANDARD
TZOFFSETFROM:-0700
TZOFFSETTO:-0800
TZNAME:PST
DTSTART:20231105T090000
END:STANDARD
BEGIN:DAYLIGHT
TZOFFSETFROM:-0800
TZOFFSETTO:-0700
TZNAME:PDT
DTSTART:20240310T100000
END:DAYLIGHT
BEGIN:STANDARD
TZOFFSETFROM:-0700
TZOFFSETTO:-0800
TZNAME:PST
DTSTART:20241103T090000
END:STANDARD
BEGIN:DAYLIGHT
TZOFFSETFROM:-0800
TZOFFSETTO:-0700
TZNAME:PDT
DTSTART:20250309T100000
END:DAYLIGHT
BEGIN:STANDARD
TZOFFSETFROM:-0700
TZOFFSETTO:-0800
TZNAME:PST
DTSTART:20251102T090000
END:STANDARD
END:VTIMEZONE
BEGIN:VEVENT
DTSTART;TZID=America/Los_Angeles:20240309T090000
DTEND;TZID=America/Los_Angeles:20240309T190000
DTSTAMP:20260421T134636
CREATED:20240306T180742Z
LAST-MODIFIED:20240306T205848Z
UID:50950-1709974800-1710010800@northparkmainstreet.com
SUMMARY:Holy Matcha's 8 Year Anniversary!
DESCRIPTION:You are invited to Holy Matcha’s 8-year anniversary celebration \n? Date: Saturday\, March 9th \n? Time: 9am \nSpecial Matcha\, pastries\, and drinks\, alongside exclusive merchandise for sale. And don’t miss out on the chance to grab one of our holy goody bags\, available for the first 20 people in line. See you there!
URL:https://northparkmainstreet.com/event/holy-matchas-8-year-anniversary/
LOCATION:Holy Matcha\, 3118 University Ave\, San Diego\, CA\, 92104\, United States
CATEGORIES:Community Events
ATTACH;FMTTYPE=image/png:https://northparkmainstreet.com/wp-content/uploads/2024/03/HM-Anni-1.png
END:VEVENT
BEGIN:VEVENT
DTSTART;TZID=America/Los_Angeles:20240309T100000
DTEND;TZID=America/Los_Angeles:20240309T223000
DTSTAMP:20260421T134636
CREATED:20240227T211033Z
LAST-MODIFIED:20240228T224226Z
UID:50815-1709978400-1710023400@northparkmainstreet.com
SUMMARY:Lazy Eye Coffee's Ribbon Cutting!
DESCRIPTION:Join us for the Ribbon Cutting Celebration at Lazy Eyes Coffee! \n? Date: Saturday\, March 9th \n? Time: 10 am \nEnjoy special discounts on drinks\, exciting giveaways\, and more! Check out their flyer for all the details. \nStart your Saturday on a high note – swing by Lazy Eyes Coffee for your morning caffeine fix and be part of the festivities!
URL:https://northparkmainstreet.com/event/lazy-eye-coffee-ribbon-cutting/
LOCATION:Lazy Eye Coffee\, 4096 39th St\, San Diego\, 92104\, United States
CATEGORIES:Community Events
ATTACH;FMTTYPE=image/png:https://northparkmainstreet.com/wp-content/uploads/2024/02/Lazy-Eye-Coffee.png
END:VEVENT
BEGIN:VEVENT
DTSTART;TZID=America/Los_Angeles:20230812T120000
DTEND;TZID=America/Los_Angeles:20230812T160000
DTSTAMP:20260421T134636
CREATED:20230728T233240Z
LAST-MODIFIED:20231006T151502Z
UID:49097-1691841600-1691856000@northparkmainstreet.com
SUMMARY:North Park Vegan Food Popup
DESCRIPTION:2nd Saturdays\n12 pm – 4 pm\nNorth Park Mini Park\n3812 29th St\, San Diego \nSan Diego’s biggest outdoor vegan market\, featuring over 60 vendors. The North Park Vegan Food Popup is located at the North Park Mini Park\, a vibrant outdoor plaza featuring several seating areas\, gardens and a play area for kids. \nVegan Food Popup markets are free events that showcase the best plant-based food in SoCal\, featuring a rotating lineup of diverse vendors from San Diego\, Orange County and LA offering an amazing selection of eats and treats including Pizza\, Burgers\, Donuts\, Nachos\, Croissants\, Noodles\, Bao\, Stuffed Waffles\, Boba\, Corn Dogs\, Ice Cream\, Dumplings\, Hot Wings\, Sushi\, Cookies\, Curries & so much more.
URL:https://northparkmainstreet.com/event/north-park-vegan-food-popup/
LOCATION:North Park Mini Park\, 3812 29th St\, San Diego\, CA\, 92104\, United States
CATEGORIES:Special Events
ATTACH;FMTTYPE=image/jpeg:https://northparkmainstreet.com/wp-content/uploads/2023/07/NPVFM-Logo.jpg
ORGANIZER;CN="Vegan Food Popup":MAILTO:info@veganfoodpopup.com
END:VEVENT
END:VCALENDAR