BEGIN:VCALENDAR
VERSION:2.0
PRODID:-//North Park Main Street - ECPv6.15.20//NONSGML v1.0//EN
CALSCALE:GREGORIAN
METHOD:PUBLISH
X-WR-CALNAME:North Park Main Street
X-ORIGINAL-URL:https://northparkmainstreet.com
X-WR-CALDESC:Events for North Park Main Street
REFRESH-INTERVAL;VALUE=DURATION:PT1H
X-Robots-Tag:noindex
X-PUBLISHED-TTL:PT1H
BEGIN:VTIMEZONE
TZID:America/Los_Angeles
BEGIN:DAYLIGHT
TZOFFSETFROM:-0800
TZOFFSETTO:-0700
TZNAME:PDT
DTSTART:20220313T100000
END:DAYLIGHT
BEGIN:STANDARD
TZOFFSETFROM:-0700
TZOFFSETTO:-0800
TZNAME:PST
DTSTART:20221106T090000
END:STANDARD
BEGIN:DAYLIGHT
TZOFFSETFROM:-0800
TZOFFSETTO:-0700
TZNAME:PDT
DTSTART:20230312T100000
END:DAYLIGHT
BEGIN:STANDARD
TZOFFSETFROM:-0700
TZOFFSETTO:-0800
TZNAME:PST
DTSTART:20231105T090000
END:STANDARD
BEGIN:DAYLIGHT
TZOFFSETFROM:-0800
TZOFFSETTO:-0700
TZNAME:PDT
DTSTART:20240310T100000
END:DAYLIGHT
BEGIN:STANDARD
TZOFFSETFROM:-0700
TZOFFSETTO:-0800
TZNAME:PST
DTSTART:20241103T090000
END:STANDARD
BEGIN:DAYLIGHT
TZOFFSETFROM:-0800
TZOFFSETTO:-0700
TZNAME:PDT
DTSTART:20250309T100000
END:DAYLIGHT
BEGIN:STANDARD
TZOFFSETFROM:-0700
TZOFFSETTO:-0800
TZNAME:PST
DTSTART:20251102T090000
END:STANDARD
END:VTIMEZONE
BEGIN:VEVENT
DTSTART;TZID=America/Los_Angeles:20230812T120000
DTEND;TZID=America/Los_Angeles:20230812T160000
DTSTAMP:20260421T123158
CREATED:20230728T233240Z
LAST-MODIFIED:20231006T151502Z
UID:49097-1691841600-1691856000@northparkmainstreet.com
SUMMARY:North Park Vegan Food Popup
DESCRIPTION:2nd Saturdays\n12 pm – 4 pm\nNorth Park Mini Park\n3812 29th St\, San Diego \nSan Diego’s biggest outdoor vegan market\, featuring over 60 vendors. The North Park Vegan Food Popup is located at the North Park Mini Park\, a vibrant outdoor plaza featuring several seating areas\, gardens and a play area for kids. \nVegan Food Popup markets are free events that showcase the best plant-based food in SoCal\, featuring a rotating lineup of diverse vendors from San Diego\, Orange County and LA offering an amazing selection of eats and treats including Pizza\, Burgers\, Donuts\, Nachos\, Croissants\, Noodles\, Bao\, Stuffed Waffles\, Boba\, Corn Dogs\, Ice Cream\, Dumplings\, Hot Wings\, Sushi\, Cookies\, Curries & so much more.
URL:https://northparkmainstreet.com/event/north-park-vegan-food-popup/
LOCATION:North Park Mini Park\, 3812 29th St\, San Diego\, CA\, 92104\, United States
CATEGORIES:Special Events
ATTACH;FMTTYPE=image/jpeg:https://northparkmainstreet.com/wp-content/uploads/2023/07/NPVFM-Logo.jpg
ORGANIZER;CN="Vegan Food Popup":MAILTO:info@veganfoodpopup.com
END:VEVENT
BEGIN:VEVENT
DTSTART;TZID=America/Los_Angeles:20240210T150000
DTEND;TZID=America/Los_Angeles:20240210T153000
DTSTAMP:20260421T123158
CREATED:20240124T223225Z
LAST-MODIFIED:20240207T185259Z
UID:50514-1707577200-1707579000@northparkmainstreet.com
SUMMARY:Our Story Ribbon Cutting
DESCRIPTION:We are excited to welcome Our Story to the North Park community! \nThe grand opening will be from 10 am- 4pm. And ribbon cutting will take place at 3 pm. \nVendors and food/drinks will be available. \nCome and celebrate this new shop! \nRSVP down below. \n 
URL:https://northparkmainstreet.com/event/our-story-ribbon-cutting/
LOCATION:Our Story\, 2939 Lincoln Ave\, San Diego\, CA\, 92104\, United States
ATTACH;FMTTYPE=image/png:https://northparkmainstreet.com/wp-content/uploads/2024/01/Our-Story.png
END:VEVENT
BEGIN:VEVENT
DTSTART;TZID=America/Los_Angeles:20240210T160000
DTEND;TZID=America/Los_Angeles:20240211T020000
DTSTAMP:20260421T123158
CREATED:20240202T164015Z
LAST-MODIFIED:20240202T165519Z
UID:50633-1707580800-1707616800@northparkmainstreet.com
SUMMARY:Crafted Coupe Ribbon Cutting
DESCRIPTION:Join us in welcoming Crafted Coupe to the North Park community! \nEvent is from 4pm-2am with the ribbon cutting at 4pm. Music\, light bites and an extended happy hour from will from 4-7pm. \nRSVP down below.
URL:https://northparkmainstreet.com/event/crafted-coupe-ribbon-cutting/
CATEGORIES:Community Events
ATTACH;FMTTYPE=image/png:https://northparkmainstreet.com/wp-content/uploads/2024/02/Crafted-Coupe.png
END:VEVENT
END:VCALENDAR