BEGIN:VCALENDAR
VERSION:2.0
PRODID:-//North Park Main Street - ECPv6.15.20//NONSGML v1.0//EN
CALSCALE:GREGORIAN
METHOD:PUBLISH
X-ORIGINAL-URL:https://northparkmainstreet.com
X-WR-CALDESC:Events for North Park Main Street
REFRESH-INTERVAL;VALUE=DURATION:PT1H
X-Robots-Tag:noindex
X-PUBLISHED-TTL:PT1H
BEGIN:VTIMEZONE
TZID:America/Los_Angeles
BEGIN:DAYLIGHT
TZOFFSETFROM:-0800
TZOFFSETTO:-0700
TZNAME:PDT
DTSTART:20220313T100000
END:DAYLIGHT
BEGIN:STANDARD
TZOFFSETFROM:-0700
TZOFFSETTO:-0800
TZNAME:PST
DTSTART:20221106T090000
END:STANDARD
BEGIN:DAYLIGHT
TZOFFSETFROM:-0800
TZOFFSETTO:-0700
TZNAME:PDT
DTSTART:20230312T100000
END:DAYLIGHT
BEGIN:STANDARD
TZOFFSETFROM:-0700
TZOFFSETTO:-0800
TZNAME:PST
DTSTART:20231105T090000
END:STANDARD
BEGIN:DAYLIGHT
TZOFFSETFROM:-0800
TZOFFSETTO:-0700
TZNAME:PDT
DTSTART:20240310T100000
END:DAYLIGHT
BEGIN:STANDARD
TZOFFSETFROM:-0700
TZOFFSETTO:-0800
TZNAME:PST
DTSTART:20241103T090000
END:STANDARD
END:VTIMEZONE
BEGIN:VEVENT
DTSTART;TZID=America/Los_Angeles:20231103T090000
DTEND;TZID=America/Los_Angeles:20231103T110000
DTSTAMP:20260421T082534
CREATED:20231027T223537Z
LAST-MODIFIED:20231027T223537Z
UID:49781-1699002000-1699009200@northparkmainstreet.com
SUMMARY:Instagram Masterclass Series For Business Owners
DESCRIPTION:Introducing the Instagram Masterclass Series for Business Owners\, the Strategic Approach to Maintaining a Social Presence and Growing Awareness For Your Business. If you are in the San Diego area\, join us for this in-person masterclass series to learn how to leverage the Instagram platform to grow your business. \nHere’s a breakdown of what you can expect:\n? Class 1: In this session\, we’ll delve into crucial topics such as incorporating social media marketing into your overall strategy\, promoting diversity and inclusion\, different types of IG posts\, optimizing your profile for maximum impact\, & creating compelling content pillars that showcase your business and its offerings.\n? Classes 2 & 3: These sessions will cover everything from building virtual communities\, creating stunning custom assets\, mastering content writing\, understanding Instagram SEO\, effective content scheduling\, maximizing content creation efforts\, repurposing content across platforms\, analyzing and optimizing your strategy\, and so much more! \nWhen you join the Instagram Masterclass Series for Business Owners\, you’ll also receive these incredible resources:\n? A digital content calendar template (.xls file) to effortlessly organize your content\n? Lifetime access to the Masterclass presentation to revisit anytime you need a refresher\n? The Instagram Masterclass Series For Business Owners Workbook\, complete with helpful guides and templates \nTo make the most out of this holistic approach to social media marketing\, we highly recommend attending all three classes. However\, we understand that everyone has different levels of expertise and budget constraints. That’s why we’re also offering the flexibility to choose individual classes that cater to your specific needs. \nHere’s the full class schedule:\n? Class 1: Nov. 3\, 2023 from 9-11a.m.\n? Class 2: Nov. 10\, 2023 from 9-11a.m.\n? Class 3: Nov. 17\, 2023 from 9-11a.m. \nSIGNUP LINKS BELOW \n\nClass 1 – Friday\, November 3rd\nClass 2 – Friday\, November 10th\nClass 3 – Friday\, November 17th\n\nYou can opt to attend any combination of the classes or seize this incredible opportunity to attend all three and enjoy a bundle price of just $250! \n  \nQuestions? Contact – erika@nadimarketing.com
URL:https://northparkmainstreet.com/event/instagram-masterclass-series-for-business-owners/
CATEGORIES:Business
ATTACH;FMTTYPE=image/jpeg:https://northparkmainstreet.com/wp-content/uploads/2023/10/NADI-Marketing-Masterclass-Logo.jpg
ORGANIZER;CN="Nadi Marketing":MAILTO:erika@nadimarketing.com
END:VEVENT
END:VCALENDAR