BEGIN:VCALENDAR
VERSION:2.0
PRODID:-//North Park Main Street - ECPv6.15.20//NONSGML v1.0//EN
CALSCALE:GREGORIAN
METHOD:PUBLISH
X-WR-CALNAME:North Park Main Street
X-ORIGINAL-URL:https://northparkmainstreet.com
X-WR-CALDESC:Events for North Park Main Street
REFRESH-INTERVAL;VALUE=DURATION:PT1H
X-Robots-Tag:noindex
X-PUBLISHED-TTL:PT1H
BEGIN:VTIMEZONE
TZID:America/Los_Angeles
BEGIN:DAYLIGHT
TZOFFSETFROM:-0800
TZOFFSETTO:-0700
TZNAME:PDT
DTSTART:20220313T100000
END:DAYLIGHT
BEGIN:STANDARD
TZOFFSETFROM:-0700
TZOFFSETTO:-0800
TZNAME:PST
DTSTART:20221106T090000
END:STANDARD
BEGIN:DAYLIGHT
TZOFFSETFROM:-0800
TZOFFSETTO:-0700
TZNAME:PDT
DTSTART:20230312T100000
END:DAYLIGHT
BEGIN:STANDARD
TZOFFSETFROM:-0700
TZOFFSETTO:-0800
TZNAME:PST
DTSTART:20231105T090000
END:STANDARD
BEGIN:DAYLIGHT
TZOFFSETFROM:-0800
TZOFFSETTO:-0700
TZNAME:PDT
DTSTART:20240310T100000
END:DAYLIGHT
BEGIN:STANDARD
TZOFFSETFROM:-0700
TZOFFSETTO:-0800
TZNAME:PST
DTSTART:20241103T090000
END:STANDARD
END:VTIMEZONE
BEGIN:VEVENT
DTSTART;TZID=America/Los_Angeles:20231013T180000
DTEND;TZID=America/Los_Angeles:20231013T230000
DTSTAMP:20260421T082323
CREATED:20231006T150857Z
LAST-MODIFIED:20231006T150857Z
UID:49590-1697220000-1697238000@northparkmainstreet.com
SUMMARY:Celebrating Our One Year Anniversary - The Spooky Way!
DESCRIPTION:Celebrating Our One Year Anniversary: Get ready for the spookiest night of the year! \nThis Friday the 13th at the Seventh House.\nWitness amazing belly and fire dancers\, enjoy spooky witchy cocktails\, and stand a chance to win 2 tickets to see the legendary Stevie Nicks live!  \nSpace is limited\, reserve your table soon!
URL:https://northparkmainstreet.com/event/celebrating-our-one-year-anniversary-the-spooky-way/
LOCATION:Seventh House\, 2835 University Ave\, 92104
CATEGORIES:Dinning & Entertainment
ATTACH;FMTTYPE=image/jpeg:https://northparkmainstreet.com/wp-content/uploads/2023/10/7thHouse-Event-Logo.jpg
END:VEVENT
END:VCALENDAR