BEGIN:VCALENDAR
VERSION:2.0
PRODID:-//North Park Main Street - ECPv6.15.20//NONSGML v1.0//EN
CALSCALE:GREGORIAN
METHOD:PUBLISH
X-ORIGINAL-URL:https://northparkmainstreet.com
X-WR-CALDESC:Events for North Park Main Street
REFRESH-INTERVAL;VALUE=DURATION:PT1H
X-Robots-Tag:noindex
X-PUBLISHED-TTL:PT1H
BEGIN:VTIMEZONE
TZID:America/Los_Angeles
BEGIN:DAYLIGHT
TZOFFSETFROM:-0800
TZOFFSETTO:-0700
TZNAME:PDT
DTSTART:20220313T100000
END:DAYLIGHT
BEGIN:STANDARD
TZOFFSETFROM:-0700
TZOFFSETTO:-0800
TZNAME:PST
DTSTART:20221106T090000
END:STANDARD
BEGIN:DAYLIGHT
TZOFFSETFROM:-0800
TZOFFSETTO:-0700
TZNAME:PDT
DTSTART:20230312T100000
END:DAYLIGHT
BEGIN:STANDARD
TZOFFSETFROM:-0700
TZOFFSETTO:-0800
TZNAME:PST
DTSTART:20231105T090000
END:STANDARD
BEGIN:DAYLIGHT
TZOFFSETFROM:-0800
TZOFFSETTO:-0700
TZNAME:PDT
DTSTART:20240310T100000
END:DAYLIGHT
BEGIN:STANDARD
TZOFFSETFROM:-0700
TZOFFSETTO:-0800
TZNAME:PST
DTSTART:20241103T090000
END:STANDARD
END:VTIMEZONE
BEGIN:VEVENT
DTSTART;TZID=America/Los_Angeles:20231008T193000
DTEND;TZID=America/Los_Angeles:20231008T193000
DTSTAMP:20260421T094243
CREATED:20231006T145935Z
LAST-MODIFIED:20231006T145935Z
UID:49583-1696793400-1696793400@northparkmainstreet.com
SUMMARY:Sunday Trivia @ OG40 Brewing
DESCRIPTION:Join us for fun filled night of Trivia games with “Nick” the best host in town at Original 40 Brewing. Enjoy great beer\, wine\, cider\, seltzers with our full food menu.
URL:https://northparkmainstreet.com/event/sunday-trivia-og40-brewing/
LOCATION:OG40 Brewing\, 3117 University Ave\, San Diego\, 92104
CATEGORIES:Dinning & Entertainment
ATTACH;FMTTYPE=image/jpeg:https://northparkmainstreet.com/wp-content/uploads/2023/10/OG40-Trivia-Logo-e1696604529544.jpg
END:VEVENT
END:VCALENDAR